BEGIN:VCALENDAR
VERSION:2.0
PRODID:-//ChamberMaster//Event Calendar 2.0//EN
METHOD:PUBLISH
X-PUBLISHED-TTL:P3D
REFRESH-INTERVAL:P3D
CALSCALE:GREGORIAN
BEGIN:VEVENT
DTSTART;VALUE=DATE:20110406
DTEND;VALUE=DATE:20110428
TRANSP:TRANSPARENT
X-MICROSOFT-CDO-ALLDAYEVENT:TRUE
SUMMARY:PICASSO KIDS
DESCRIPTION:Easels\, canvas\, and paint are just some of the tools used in this painting and art history class.\n\nInvestigate artwork by the masters and explore various art mediums during this 4-week course.\n\nAll Supplies included!
X-ALT-DESC;FMTTYPE=text/html:Easels\, canvas\, and paint are just some of the tools used in this painting and art history class.\n<br>Investigate artwork by the masters and explore various art mediums during this 4-week course.\n<br>All Supplies included!
LOCATION:Shelby County Arts Council Studio- Columbiana
UID:e.145.3295
SEQUENCE:3
DTSTAMP:20260426T034245Z
URL:https://business.shelbychamber.org/events/details/picasso-kids-04-06-2011-3295
END:VEVENT

END:VCALENDAR
