BEGIN:VCALENDAR
VERSION:2.0
PRODID:-//ChamberMaster//Event Calendar 2.0//EN
METHOD:PUBLISH
X-PUBLISHED-TTL:P3D
REFRESH-INTERVAL:P3D
CALSCALE:GREGORIAN
BEGIN:VEVENT
DTSTART;VALUE=DATE:20110803
DTEND;VALUE=DATE:20110901
TRANSP:TRANSPARENT
X-MICROSOFT-CDO-ALLDAYEVENT:TRUE
SUMMARY:PICASSO KIDS
DESCRIPTION:Easels\, canvas\, and paint are just some of the tools used in this painting& art history class.\n\nInvestigate artwork by the master and explore various art mediums during this 4-week course.\n\nAll Supplies included!
X-ALT-DESC;FMTTYPE=text/html:Easels\, canvas\, and paint are just some of the tools used in this painting&amp\; art history class.\n<br>Investigate artwork by the master and explore various art mediums during this 4-week course.\n<br>All Supplies included!
LOCATION:Shelby County Arts Council Studio- Columbiana
UID:e.145.3329
SEQUENCE:3
DTSTAMP:20260425T213810Z
URL:https://business.shelbychamber.org/events/details/picasso-kids-08-03-2011-3329
END:VEVENT

END:VCALENDAR
