BEGIN:VCALENDAR
VERSION:2.0
PRODID:-//ChamberMaster//Event Calendar 2.0//EN
METHOD:PUBLISH
X-PUBLISHED-TTL:P3D
REFRESH-INTERVAL:P3D
CALSCALE:GREGORIAN
BEGIN:VEVENT
DTSTART:20110421T180000Z
DTEND:20110421T193000Z
X-MICROSOFT-CDO-ALLDAYEVENT:FALSE
SUMMARY:PICASSO KIDS (For home-schoolers!)
DESCRIPTION:PICASSO KIDS (for home-schoolers!)\n\n\n\n* Easels\, canvas\, and paint are just some of the tools used in this painting & art history class\n\n* Investigate artwork by the masters & explore various art mediums during this 4-week course\n\n* All supplies included\n\n\n\nApril Class: Apr 7 - 28\, 2011\n\n\n\nAges 9 - 12 4 Sessions\n\nWednesdays 1:00 - 2:30PM
X-ALT-DESC;FMTTYPE=text/html:PICASSO KIDS (for home-schoolers!)<br />\n<br />\n* Easels\, canvas\, and paint are just some of the tools used in this painting &amp\; art history class<br />\n* Investigate artwork by the masters &amp\; explore various art mediums during this 4-week course<br />\n* All supplies included<br />\n<br />\nApril Class: Apr 7 - 28\, 2011<br />\n<br />\nAges 9 - 12 4 Sessions<br />\nWednesdays 1:00 - 2:30PM
LOCATION:
UID:e.145.3123
SEQUENCE:3
DTSTAMP:20260426T035012Z
URL:https://business.shelbychamber.org/events/details/picasso-kids-for-home-schoolers-04-21-2011-3123
END:VEVENT

END:VCALENDAR
