BEGIN:VCALENDAR
VERSION:2.0
PRODID:-//ChamberMaster//Event Calendar 2.0//EN
METHOD:PUBLISH
X-PUBLISHED-TTL:P3D
REFRESH-INTERVAL:P3D
CALSCALE:GREGORIAN
BEGIN:VEVENT
DTSTART:20110519T050000Z
DTEND:20110520T045900Z
X-MICROSOFT-CDO-ALLDAYEVENT:FALSE
SUMMARY:PICASSO KIDS (for home-schoolers!)
DESCRIPTION:PICASSO KIDS (for home-schoolers!)\n\n\n\n* Easels\, canvas\, and paint are just some of the tools used in this painting & art history class\n\n* Investigate artwork by the masters & explore various art mediums during this 4-week course\n\n* All supplies included\n\n\n\nMay Class: May 5 - 26\, 2011\n\n\n\nAges 9 - 12 4 Sessions\n\nWednesdays 1:00 - 2:30PM
X-ALT-DESC;FMTTYPE=text/html:PICASSO KIDS (for home-schoolers!)<br />\n<br />\n* Easels\, canvas\, and paint are just some of the tools used in this painting &amp\; art history class<br />\n* Investigate artwork by the masters &amp\; explore various art mediums during this 4-week course<br />\n* All supplies included<br />\n<br />\nMay Class: May 5 - 26\, 2011<br />\n<br />\nAges 9 - 12 4 Sessions<br />\nWednesdays 1:00 - 2:30PM
LOCATION:Shelby County Arts Council Studio 104 Mildred St Columbiana AL 35051
UID:e.145.3165
SEQUENCE:3
DTSTAMP:20260426T022042Z
URL:https://business.shelbychamber.org/events/details/picasso-kids-for-home-schoolers-05-19-2011-3165
END:VEVENT

END:VCALENDAR
