BEGIN:VCALENDAR
VERSION:2.0
PRODID:-//ChamberMaster//Event Calendar 2.0//EN
METHOD:PUBLISH
X-PUBLISHED-TTL:P3D
REFRESH-INTERVAL:P3D
CALSCALE:GREGORIAN
BEGIN:VEVENT
DTSTART;VALUE=DATE:20110601
DTEND;VALUE=DATE:20110630
TRANSP:TRANSPARENT
X-MICROSOFT-CDO-ALLDAYEVENT:TRUE
SUMMARY:PICASSO KIDS (for home-schoolers!)
DESCRIPTION:Easels\, canvas\, and paint are just some of the tools used in this painting & art history class.\n\nInvestigate artwork by the masters & explore various art mediums during this 4-week course.\n\nAll supplies included
X-ALT-DESC;FMTTYPE=text/html:Easels\, canvas\, and paint are just some of the tools used in this painting &amp\; art history class.\n<br>Investigate artwork by the masters &amp\; explore various art mediums during this 4-week course.\n<br>All supplies included
LOCATION:Shelby Conty Arts Council Studio - Columbiana
UID:e.145.3296
SEQUENCE:3
DTSTAMP:20260426T022104Z
URL:https://business.shelbychamber.org/events/details/picasso-kids-for-home-schoolers-06-01-2011-3296
END:VEVENT

END:VCALENDAR
