BEGIN:VCALENDAR
VERSION:2.0
PRODID:-//ChamberMaster//Event Calendar 2.0//EN
METHOD:PUBLISH
X-PUBLISHED-TTL:P3D
REFRESH-INTERVAL:P3D
CALSCALE:GREGORIAN
BEGIN:VEVENT
DTSTART;VALUE=DATE:20110803
DTEND;VALUE=DATE:20110901
TRANSP:TRANSPARENT
X-MICROSOFT-CDO-ALLDAYEVENT:TRUE
SUMMARY:PICASSO KIDS (for home-schoolers!)
DESCRIPTION:Easels\, canvas\, and print are just some of the tools used in this painting& art history class\n\nInvestigate artwork by the masters & explore various arts medium during this 4- week course\n\nAll supplies included
X-ALT-DESC;FMTTYPE=text/html:Easels\, canvas\, and print are just some of the tools used in this painting&amp\; art history class\n<br>Investigate artwork by the masters &amp\; explore various arts medium during this 4- week course\n<br>All supplies included
LOCATION:Shelby county arts council studio- Columbiana
UID:e.145.3323
SEQUENCE:3
DTSTAMP:20260425T232341Z
URL:https://business.shelbychamber.org/events/details/picasso-kids-for-home-schoolers-08-03-2011-3323
END:VEVENT

END:VCALENDAR
