BEGIN:VCALENDAR
VERSION:2.0
PRODID:-//ChamberMaster//Event Calendar 2.0//EN
METHOD:PUBLISH
X-PUBLISHED-TTL:P3D
REFRESH-INTERVAL:P3D
CALSCALE:GREGORIAN
BEGIN:VEVENT
DTSTART:20160510T210000Z
DTEND:20160510T220000Z
X-MICROSOFT-CDO-ALLDAYEVENT:FALSE
SUMMARY:Picture Book Club: Eric Carle Edition
DESCRIPTION:Join us for stories\, games\, crafts\, and snacks featuring a different favorite book character each month. All ages welcome. Registration required.
X-ALT-DESC;FMTTYPE=text/html:<span style="font-family:calibri light\,sans-serif">Join&nbsp\;us&nbsp\;for&nbsp\;stories\,&nbsp\;games\, crafts\,&nbsp\;and&nbsp\;snacks featuring a different favorite book character each month.&nbsp\;All&nbsp\;ages&nbsp\;welcome.&nbsp\;Registration&nbsp\;required.</span>
LOCATION:North Shelby Library
UID:e.145.9490
SEQUENCE:3
DTSTAMP:20260422T045225Z
URL:https://business.shelbychamber.org/events/details/picture-book-club-eric-carle-edition-05-10-2016-9490
END:VEVENT

END:VCALENDAR
