BEGIN:VCALENDAR
VERSION:2.0
PRODID:-//ChamberMaster//Event Calendar 2.0//EN
METHOD:PUBLISH
X-PUBLISHED-TTL:P3D
REFRESH-INTERVAL:P3D
CALSCALE:GREGORIAN
BEGIN:VEVENT
DTSTART:20151208T220000Z
DTEND:20151208T230000Z
X-MICROSOFT-CDO-ALLDAYEVENT:FALSE
SUMMARY:Picture Book Club featuring Biscuit the Puppy
DESCRIPTION:Join us for stories\, games\, crafts\, and snacks featuring a different favorite book character each month. All ages welcome. Registration required.
X-ALT-DESC;FMTTYPE=text/html:&nbsp\;Join&nbsp\;us&nbsp\;for&nbsp\;stories\,&nbsp\;games\, crafts\,&nbsp\;and&nbsp\;snacks featuring a different favorite book character each month.&nbsp\;<u>All&nbsp\;ages&nbsp\;welcome</u>.&nbsp\;<u>Registration&nbsp\;required.</u>
LOCATION:5521 Cahaba Valley Road\, Birmingham AL 35242
UID:e.145.7978
SEQUENCE:3
DTSTAMP:20260422T141635Z
URL:https://business.shelbychamber.org/events/details/picture-book-club-featuring-biscuit-the-puppy-12-08-2015-7978
END:VEVENT

END:VCALENDAR
