BEGIN:VCALENDAR
VERSION:2.0
PRODID:-//ChamberMaster//Event Calendar 2.0//EN
METHOD:PUBLISH
X-PUBLISHED-TTL:P3D
REFRESH-INTERVAL:P3D
CALSCALE:GREGORIAN
BEGIN:VEVENT
DTSTART:20151110T220000Z
DTEND:20151110T230000Z
X-MICROSOFT-CDO-ALLDAYEVENT:FALSE
SUMMARY:Picture Book Club featuring Olivia the Pig
DESCRIPTION:Join us for stories\, games\, crafts\, and snacks featuring a different favorite book character each month. All ages welcome. Registration required.
X-ALT-DESC;FMTTYPE=text/html:<span style="font-family:times new roman\,serif"><span style="font-size:12.0pt">Join&nbsp\;us&nbsp\;for&nbsp\;stories\,&nbsp\;games\, crafts\,&nbsp\;and&nbsp\;snacks featuring a different favorite book character each month.&nbsp\;<u>All&nbsp\;ages&nbsp\;welcome</u>.&nbsp\;<u>Registration&nbsp\;required.</u></span></span>
LOCATION:North Shelby Library\, 5521 Cahaba Valley Road\, Birmingham AL 35242
UID:e.145.7953
SEQUENCE:3
DTSTAMP:20260422T142043Z
URL:https://business.shelbychamber.org/events/details/picture-book-club-featuring-olivia-the-pig-11-10-2015-7953
END:VEVENT

END:VCALENDAR
