BEGIN:VCALENDAR
VERSION:2.0
PRODID:-//ChamberMaster//Event Calendar 2.0//EN
METHOD:PUBLISH
X-PUBLISHED-TTL:P3D
REFRESH-INTERVAL:P3D
CALSCALE:GREGORIAN
BEGIN:VEVENT
DTSTART;VALUE=DATE:20121001
DTEND;VALUE=DATE:20121002
TRANSP:TRANSPARENT
X-MICROSOFT-CDO-ALLDAYEVENT:TRUE
SUMMARY:Pink Ribbon Bagels benefitting Breast Cancer Research Foundation of Alabama
DESCRIPTION:During the month of October\, Panera Bread will be baking Pink Ribbon Cherry Vanilla Bagels at all of our locations. For each Pink Ribbon Bagel purchased $0.10 will be donated to the Breast Cancer Research Foundation of Alabama. We are taking pre orders at the caf  for Bagel Packs which include (2) tubs of cream cheese spread and (13) Pink Ribbon Bagels for $13.99 or a Bakers Dozen which includes (13) Pink Ribbon Bagels for $9.99. We would love see support from our local Chamber members so that we can give back to a local foundation.
X-ALT-DESC;FMTTYPE=text/html:During the month of October\, Panera Bread will be baking Pink Ribbon Cherry Vanilla Bagels at all of our locations. For each Pink Ribbon Bagel purchased $0.10 will be donated to the Breast Cancer Research Foundation of Alabama. We are taking pre orders at the caf&eacute\; for Bagel Packs which include (2) tubs of cream cheese spread and (13) Pink Ribbon Bagels for $13.99 or a Bakers Dozen which includes (13) Pink Ribbon Bagels for $9.99. We would love see support from our local Chamber members so that we can give back to a local foundation.
LOCATION:Panera Bread Cafes in Alabama
UID:e.145.4394
SEQUENCE:3
DTSTAMP:20260424T233811Z
URL:https://business.shelbychamber.org/events/details/pink-ribbon-bagels-benefitting-breast-cancer-research-foundation-of-alabama-10-01-2012-4394
END:VEVENT

END:VCALENDAR
