BEGIN:VCALENDAR
VERSION:2.0
PRODID:-//ChamberMaster//Event Calendar 2.0//EN
METHOD:PUBLISH
X-PUBLISHED-TTL:P3D
REFRESH-INTERVAL:P3D
CALSCALE:GREGORIAN
BEGIN:VEVENT
DTSTART:20140710T210000Z
DTEND:20140711T010000Z
X-MICROSOFT-CDO-ALLDAYEVENT:FALSE
SUMMARY:PINT NIGHT
DESCRIPTION:SafeHouse of Shelby County\, Full Moon BBQ of Alabaster and Avondale Brewery are partnering together to give you a night of Beer\, Barbeque and fun. Avondale Brewery Company will donate 10% from every pint sold between 4-8 pm to help SafeHouse raise money for Client assistance and Education programs. Along with your beer\, you can enjoy a Full Moon BBQ pork plate for just $10.00 and 100% of the proceeds from the BBQ plates goes back to SafeHouse!!! The tickets for the plates can be purchased online at www.safehouse.org or follow us on facebook at https://www.facebook.com.SafehouseShelby.
X-ALT-DESC;FMTTYPE=text/html:SafeHouse of Shelby County\, Full Moon BBQ of Alabaster and Avondale Brewery are partnering together to give you a night of Beer\, Barbeque and fun. Avondale Brewery Company will donate 10% from every pint sold between 4-8 pm to help SafeHouse raise money for Client assistance and Education programs. Along with your beer\, you can enjoy a Full Moon BBQ pork plate for just $10.00 and 100% of the proceeds from the BBQ plates goes back to SafeHouse!!! The tickets for the plates can be purchased online at www.safehouse.org or follow us on facebook at https://www.facebook.com.SafehouseShelby.
LOCATION:Avondale Brewery
UID:e.145.5527
SEQUENCE:3
DTSTAMP:20260423T133253Z
URL:https://business.shelbychamber.org/events/details/pint-night-07-10-2014-5527
END:VEVENT

END:VCALENDAR
