BEGIN:VCALENDAR
VERSION:2.0
PRODID:-//ChamberMaster//Event Calendar 2.0//EN
METHOD:PUBLISH
X-PUBLISHED-TTL:P3D
REFRESH-INTERVAL:P3D
CALSCALE:GREGORIAN
BEGIN:VEVENT
DTSTART:20160331T233000Z
DTEND:20160401T003000Z
X-MICROSOFT-CDO-ALLDAYEVENT:FALSE
SUMMARY:PJ Movie Night
DESCRIPTION:Wear your PJs and join us for popcorn and a favorite children's movie! All ages are welcome with a caregiver. No registration is required. Snacks served.
X-ALT-DESC;FMTTYPE=text/html:<span style="font-family:calibri light\,sans-serif">Wear your PJs and join us for popcorn and a favorite children&rsquo\;s movie! All ages are welcome with a caregiver. No registration is required. Snacks served.</span>
LOCATION:North Shelby Library
UID:e.145.8366
SEQUENCE:3
DTSTAMP:20260422T074951Z
URL:https://business.shelbychamber.org/events/details/pj-movie-night-03-31-2016-8366
END:VEVENT

END:VCALENDAR
