BEGIN:VCALENDAR
VERSION:2.0
PRODID:-//ChamberMaster//Event Calendar 2.0//EN
METHOD:PUBLISH
X-PUBLISHED-TTL:P3D
REFRESH-INTERVAL:P3D
CALSCALE:GREGORIAN
BEGIN:VEVENT
DTSTART:20160226T003000Z
DTEND:20160226T010000Z
X-MICROSOFT-CDO-ALLDAYEVENT:FALSE
SUMMARY:PJ Stortyime
DESCRIPTION:Come in your PJs\, have milk and cookies\, and hear some wonderful bedtime tales. All Ages. No Registration Required.
X-ALT-DESC;FMTTYPE=text/html:<span style="font-family:calibri light\,sans-serif">Come in your PJs\, have milk and cookies\, and hear some wonderful bedtime tales.<u> All Ages</u>. <u>No Registration Required</u>.</span>
LOCATION:
UID:e.145.8294
SEQUENCE:3
DTSTAMP:20260422T110602Z
URL:https://business.shelbychamber.org/events/details/pj-stortyime-02-25-2016-8294
END:VEVENT

END:VCALENDAR
