BEGIN:VCALENDAR
VERSION:2.0
PRODID:-//ChamberMaster//Event Calendar 2.0//EN
METHOD:PUBLISH
X-PUBLISHED-TTL:P3D
REFRESH-INTERVAL:P3D
CALSCALE:GREGORIAN
BEGIN:VEVENT
DTSTART:20160630T233000Z
DTEND:20160701T000000Z
X-MICROSOFT-CDO-ALLDAYEVENT:FALSE
SUMMARY:PJ Stortyime
DESCRIPTION:Come in your PJs\, have milk and cookies\, and hear some wonderful bedtime tales. All Ages. No Registration Required
X-ALT-DESC;FMTTYPE=text/html:<span style="font-family:calibri light\,sans-serif">Come in your PJs\, have milk and cookies\, and hear some wonderful bedtime tales.<u> All Ages</u>. <u>No Registration Required</u></span>
LOCATION:North Shelby Library
UID:e.145.9571
SEQUENCE:3
DTSTAMP:20260422T030045Z
URL:https://business.shelbychamber.org/events/details/pj-stortyime-06-30-2016-9571
END:VEVENT

END:VCALENDAR
