BEGIN:VCALENDAR
VERSION:2.0
PRODID:-//ChamberMaster//Event Calendar 2.0//EN
METHOD:PUBLISH
X-PUBLISHED-TTL:P3D
REFRESH-INTERVAL:P3D
CALSCALE:GREGORIAN
BEGIN:VEVENT
DTSTART:20160714T233000Z
DTEND:20160715T000000Z
X-MICROSOFT-CDO-ALLDAYEVENT:FALSE
SUMMARY:PJ Stortyime
DESCRIPTION:Come in your PJs\, have milk and cookies\, and hear some wonderful bedtime tales. All Ages. No Registration Required.
X-ALT-DESC;FMTTYPE=text/html:<span style="font-family:calibri light\,sans-serif">Come in your PJs\, have milk and cookies\, and hear some wonderful bedtime tales.<u> All Ages</u>. <u>No Registration Required</u>.</span>
LOCATION:North Shelby Library 5521 Cahaba Valley Road Birmingham AL 35242
UID:e.145.9627
SEQUENCE:3
DTSTAMP:20260422T013327Z
URL:https://business.shelbychamber.org/events/details/pj-stortyime-07-14-2016-9627
END:VEVENT

END:VCALENDAR
