BEGIN:VCALENDAR
VERSION:2.0
PRODID:-//ChamberMaster//Event Calendar 2.0//EN
METHOD:PUBLISH
X-PUBLISHED-TTL:P3D
REFRESH-INTERVAL:P3D
CALSCALE:GREGORIAN
BEGIN:VEVENT
DTSTART:20151022T233000Z
DTEND:20151023T001500Z
X-MICROSOFT-CDO-ALLDAYEVENT:FALSE
SUMMARY:PJ Stortyime
DESCRIPTION:Come in your PJs\, have milk and cookies\, and hear some wonderful bedtime tales. All ages. No registration required.
X-ALT-DESC;FMTTYPE=text/html:Come in your PJs\, have milk and cookies\, and hear some wonderful bedtime tales. All ages. No registration required.&nbsp\;
LOCATION:North Shelby Library
UID:e.145.7888
SEQUENCE:3
DTSTAMP:20260422T154218Z
URL:https://business.shelbychamber.org/events/details/pj-stortyime-10-22-2015-7888
END:VEVENT

END:VCALENDAR
