BEGIN:VCALENDAR
VERSION:2.0
PRODID:-//ChamberMaster//Event Calendar 2.0//EN
METHOD:PUBLISH
X-PUBLISHED-TTL:P3D
REFRESH-INTERVAL:P3D
CALSCALE:GREGORIAN
BEGIN:VEVENT
DTSTART:20140214T010000Z
DTEND:20140214T013000Z
X-MICROSOFT-CDO-ALLDAYEVENT:FALSE
SUMMARY:PJ Storytime
DESCRIPTION:Come in your PJs\, have milk and cookies\, and hear some wonderful bedtime tales. All Ages. No Registration Required.
X-ALT-DESC;FMTTYPE=text/html:Come in your PJs\, have milk and cookies\, and hear some wonderful bedtime tales. All Ages. No Registration Required.
LOCATION:North Shelby Library
UID:e.145.5033
SEQUENCE:3
DTSTAMP:20260423T225442Z
URL:https://business.shelbychamber.org/events/details/pj-storytime-02-13-2014-5033
END:VEVENT

END:VCALENDAR
