BEGIN:VCALENDAR
VERSION:2.0
PRODID:-//ChamberMaster//Event Calendar 2.0//EN
METHOD:PUBLISH
X-PUBLISHED-TTL:P3D
REFRESH-INTERVAL:P3D
CALSCALE:GREGORIAN
BEGIN:VEVENT
DTSTART:20120128T140000Z
DTEND:20120128T180000Z
X-MICROSOFT-CDO-ALLDAYEVENT:FALSE
SUMMARY:Polar Plunge for Special Olympics - 2012 Law Enforcement Torch Run
DESCRIPTION:The 2012 Alabama Law Enforcement Torch Run for Special Olympics is having its annual Polar Plunge for the Special Olympics Alabama at Oak Mountain State Park.\n\n\n\nAll proceeds from the plunge will benefit Alabama Special Olympics.\n\n\n\nParticipants may register at www.alabamaletr.com.\n\n\n\nCheck out the Shelby County Polar Plunge on Facebook!\n\n\n\nClick here for a printable flier of the event!
X-ALT-DESC;FMTTYPE=text/html:The 2012 Alabama Law Enforcement Torch Run for Special Olympics is having its annual Polar Plunge for the Special Olympics Alabama at Oak Mountain State Park.<br />\n<br />\nAll proceeds from the plunge will benefit Alabama Special Olympics.<br />\n<br />\nParticipants may register at <a href="http://www.alabamaletr.com">www.alabamaletr.com</a>.<br />\n<br />\nCheck out the <a href="http://www.facebook.com/home.php#!/pages/Shelby-County-Polar-Plunge-for-Special-Olympics/185463968131185">Shelby County Polar Plunge on Facebook</a>!<br />\n<br />\nClick here for a <a href="http://cloud.chambermaster.com/userfiles/UserFiles/chambers/145/File/Community%20Events/Polar%20Plunge.pdf">printable flier of the event</a>!<br />\n
LOCATION:Oak Mountain State Park Beach. Entry fee into the park is waived for plungers.
UID:e.145.3201
SEQUENCE:3
DTSTAMP:20260425T134626Z
URL:https://business.shelbychamber.org/events/details/polar-plunge-for-special-olympics-2012-law-enforcement-torch-run-01-28-2012-3201
END:VEVENT

END:VCALENDAR
