BEGIN:VCALENDAR
VERSION:2.0
PRODID:-//ChamberMaster//Event Calendar 2.0//EN
METHOD:PUBLISH
X-PUBLISHED-TTL:P3D
REFRESH-INTERVAL:P3D
CALSCALE:GREGORIAN
BEGIN:VEVENT
DTSTART:20120721T190000Z
DTEND:20120721T213000Z
X-MICROSOFT-CDO-ALLDAYEVENT:FALSE
SUMMARY:Positive Maturity's 40th Anniversary
DESCRIPTION:Positive Maturity Fundraising Event\n\nProceeds to benefit the Aging Workers Are Reliable Employees (AWARE) Program\n\nPlease consider a private or corporate donation to help support this free employment program!\n\n \n\n40+70=110 \n\nPositive Maturity's 40th Anniversary \n\nPeggy Clarke's 70th Birthday \n\n110 Celebration and Wine Tasting\n\nJuly 21\, 2012 \n\nSaturday 2:00 - 4:30 p.m.\n\nThe Wine Loft\n\n2200 First Avenue North\n\nBirmingham\, AL 35205 \n\nRSVP: \n\n205-803.1665   peggyc@positivematurity.org  \n\n Purchase Tickets or to make a donation go to:\n\nhttps://www.firstgiving.com/positivematurity_donate/110-party\n\nTickets: Individual $40\, Couple $70.\n\n110 Club Sponsor $110 (includes: 1 ticket\, T Shirt\, recognition)\n\nCorporate Sponsor $1000 (includes: 8 tickets\, recognition)\n\nDonation over $20 pp is tax deductible\n\n\n\nThe Aging Workers are Reliable Employees (AWARE) program is funded through the generous support of United Way of Central Alabama and the Corporation for National and Community Services. This allows the program to continue to be free to the public.  On average\, clients use the AWARE program 2-3 times per month and can need the assistance up to 18 months before they are able to secure employment.  Last year\, AWARE assisted over 1200 clients (age 50+). Of those\, 500 found employment. With the AWARE program continuing to grow and funding sources continuing to decrease\, they need your help.\n\n \n\nBy being a sponsor of AWARE's upcoming 110 Celebration\, you will help them continue to reach out to the aging community.  This segment of our population is the fastest growing and the one most affected by cuts in social and federal programs.
X-ALT-DESC;FMTTYPE=text/html:<span style="font-size:12px\;"><strong><em><u><span style="color: rgb(0\, 153\, 0)\;"><span style="font-family: mv boli\;">Positive Maturity Fundraising Event</span></span></u></em></strong><br />\n<span style="color: rgb(0\, 153\, 0)\;"><span style="font-family: mv boli\;">Proceeds to benefit the Aging Workers Are Reliable&nbsp\;Employees&nbsp\;(AWARE) Program</span></span><br />\n<span style="color: rgb(0\, 153\, 0)\;"><span style="font-family: mv boli\;">Please consider a private or corporate donation to help&nbsp\;support this free employment program!</span></span><br />\n&nbsp\;<br />\n<span style="color: rgb(0\, 112\, 192)\;"><span style="font-family: broadway\;">40</span></span><span style="font-family: broadway\;">+</span><span style="color: red\;"><span style="font-family: broadway\;">70</span></span><span style="font-family: broadway\;">=</span><span style="color: rgb(0\, 176\, 80)\;"><span style="font-family: broadway\;">110</span></span>&nbsp\;<br />\n<span style="color: rgb(51\, 51\, 255)\;"><span style="font-family: mv boli\;">Positive Maturity&#39\;s 40th Anniversary </span></span><br />\n<span style="color: red\;"><span style="font-family: mv boli\;">Peggy Clarke&#39\;s 70th Birthday&nbsp\;</span></span><br />\n<u><span style="color: rgb(0\, 153\, 0)\;"><span style="font-family: mv boli\;">110 Celebration and Wine Tasting</span></span></u><br />\n<span style="color: black\;"><span style="font-family: mv boli\;">July 21\, 2012 </span></span><br />\n<span style="color: black\;"><span style="font-family: mv boli\;">Saturday 2:00 - 4:30 p.m.<br />\nThe Wine Loft<br />\n2200 First Avenue North<br />\nBirmingham\, AL 35205</span></span>&nbsp\;<br />\n<span style="color: red\;"><span style="font-family: mv boli\;">RSVP: </span></span><br />\n<span style="font-family: mv boli\;"><a href="tel:205-803.1665" target="_blank"><span style="color: rgb(51\, 51\, 255)\;">205-803.1665</span></a></span><span style="color: rgb(51\, 51\, 255)\;"><span style="font-family: mv boli\;"> &bull\; <u>peggyc</u></span></span><u><span style="color: rgb(0\, 112\, 192)\;"><span style="font-family: mv boli\;"><a href="http://@positivematurity.org" target="_blank"><span style="color: rgb(51\, 51\, 255)\;">@positivematurity.org</span></a></span></span></u> <span style="color: rgb(51\, 51\, 255)\;"><span style="font-family: mv boli\;">&bull\;</span></span><br />\n<span style="color: red\;"><span style="font-family: mv boli\;">&nbsp\;Purchase Tickets or to make a donation&nbsp\;go to:</span></span><br />\n<a href="https://www.firstgiving.com/positivematurity_donate/110-party" target="_blank"><span style="color: rgb(51\, 51\, 255)\;"><span style="font-family: mv boli\;">https://www.firstgiving.com/positivematurity_donate/110-party</span></span></a><br />\n<span style="font-family: mv boli\;">Tickets: Individual $40\, Couple $70.</span><br />\n<span style="font-family: mv boli\;">110 Club Sponsor $110 (includes: 1 ticket\, T Shirt\, recognition)</span><br />\n<span style="font-family: mv boli\;">Corporate Sponsor $1000 (includes: 8 tickets\, recognition)</span><br />\n<span style="font-family: mv boli\;">Donation over $20 pp is tax deduct<span style="color: rgb(31\, 73\, 125)\;">i</span>ble</span></span><br />\n<br />\n<span style="font-size:12px\;"><span style="font-family: georgia\,serif\;">The Aging Workers are Reliable Employees (AWARE) program is funded through the generous support of United Way of Central Alabama and the Corporation for National and Community Services. This allows the program to continue to be free to the public.&nbsp\; On average\, clients use the AWARE program 2-3 times per month and can need the assistance up to 18 months before they are able to secure employment.&nbsp\; Last year\, AWARE assisted over 1200 clients (age 50+). Of those\, 500 found employment. With the AWARE program continuing to grow and funding sources continuing to decrease\, they need your help.</span><br />\n&nbsp\;<br />\n<span style="font-family: georgia\,serif\;">By being a sponsor of AWARE&rsquo\;s upcoming 110 Celebration\, you will help them continue to reach out to the aging community.&nbsp\; This segment of our population is the fastest growing and the one most affected by cuts in social and federal programs.</span></span>
LOCATION:The Wine Loft 2200 First Avenue North Birmingham\, AL 35205
UID:e.145.4266
SEQUENCE:3
DTSTAMP:20260425T041823Z
URL:https://business.shelbychamber.org/events/details/positive-maturity-s-40th-anniversary-07-21-2012-4266
END:VEVENT

END:VCALENDAR
