BEGIN:VCALENDAR
VERSION:2.0
PRODID:-//ChamberMaster//Event Calendar 2.0//EN
METHOD:PUBLISH
X-PUBLISHED-TTL:P3D
REFRESH-INTERVAL:P3D
CALSCALE:GREGORIAN
BEGIN:VEVENT
DTSTART:20160602T130000Z
DTEND:20160602T170000Z
X-MICROSOFT-CDO-ALLDAYEVENT:FALSE
SUMMARY:Powered Industrial Trucks: Train-the-Trainer Course
DESCRIPTION:This 4-hour class is designed for training coordinators\, warehouse supervisors\, safety managers\, or anyone responsible for safety training in your company. We will teach you techniques to conduct consite safety performance evaluations for forklift and other powered industrial truck operators. Let our skilled professionals show you cost-effective ways to increase productivity and reduce safety fines in your workplace.\n\nThis course follows applicable requirements in accordance with the OSHS 29 CFR 1910.178 standard for powered industrial trucks. \n\n\n\nSeating limited. Register online today.
X-ALT-DESC;FMTTYPE=text/html:This 4-hour class is designed for training coordinators\, warehouse supervisors\, safety managers\, or anyone responsible for safety training in your company. We will teach you techniques to conduct consite safety performance evaluations for forklift and other powered industrial truck operators. Let our skilled professionals show you cost-effective ways to increase productivity and reduce safety fines in your workplace.<br />\nThis course follows applicable requirements in accordance with the OSHS 29 CFR 1910.178 standard for powered industrial trucks.&nbsp\;<br />\n<br />\nSeating limited. Register online today.
LOCATION:Jefferson State Community College\, Jefferson Campus\, Manufacturing Center\, 2601 Carson Road\, Birmingham\, AL 35215
UID:e.145.9518
SEQUENCE:3
DTSTAMP:20260422T030150Z
URL:https://business.shelbychamber.org/events/details/powered-industrial-trucks-train-the-trainer-course-06-02-2016-9518
END:VEVENT

END:VCALENDAR
