BEGIN:VCALENDAR
VERSION:2.0
PRODID:-//ChamberMaster//Event Calendar 2.0//EN
METHOD:PUBLISH
X-PUBLISHED-TTL:P3D
REFRESH-INTERVAL:P3D
CALSCALE:GREGORIAN
BEGIN:VEVENT
DTSTART:20130811T224500Z
DTEND:20130812T020000Z
X-MICROSOFT-CDO-ALLDAYEVENT:FALSE
SUMMARY:Prayer in the Park Ministries School Supply Carnival
DESCRIPTION:Prayer in the Park Ministries School Supply Carnival\n\n\n\nKids will play FREE carnival games to win the supplies on their school supply list! Free popcorn\, hotdogs and drinks will be provided. Join us as we praise God and pray for our children\, teachers and school staff!\n\n\n\nCalera First United Methodist Church is currently teaming up with Prayer in the Park Ministries in order to meet the needs of the Calera community.  Currently\, we are working toward meeting the school supply needs within our community.  If you have ever registered a child for school or had to purchase a list of supplies\, you can understand the anxiety and pressure a new school year can bring for those parents in need.  \n\n\n\nCalera First has committed to making the following purchases for the Prayer in the Park Supply Carnival that will take place on August 11th at Oliver Park:\n\n     400 Fiskar Scissors\n\n     400 packs of white copy paper\n\n     400 flash drives\n\n     200 copies of The Outsiders\n\n     200 packs of five tab dividers\n\n\n\nPlease consider donating money or supplies to this outreach ministry.  Below are ways that you can help this school system that has over 50% free and reduced lunch students:\n\n     Donate a box of paper\n\n     Sponsor flash drives (put your logo on the flash drives\, so that people will know you care about their needs)\n\n     Donate money toward the total amount to purchase\n\n     Donate a copy of The Outsiders (used or new)\n\n\n\n\n\nJennifer Nabors\n\nCalera First United Methodist Church\n\nPrayer in the Park Ministries\n\n(205) 383-0469\n\nJnabors02@gmail.com
X-ALT-DESC;FMTTYPE=text/html:Prayer in the Park Ministries School Supply Carnival<br />\n<br />\nKids will play FREE carnival games to win the supplies on their school supply list! Free popcorn\, hotdogs and drinks will be provided. Join us as we praise God and pray for our children\, teachers and school staff!<br />\n<br />\nCalera First United Methodist Church is currently teaming up with Prayer in the Park Ministries in order to meet the needs of the Calera community.&nbsp\; Currently\, we are working toward meeting the school supply needs within our community.&nbsp\; If you have ever registered a child for school or had to purchase a list of supplies\, you can understand the anxiety and pressure a new school year can bring for those parents in need. &nbsp\;<br />\n<br />\nCalera First has committed to making the following purchases for the Prayer in the Park Supply Carnival that will take place on August 11th at Oliver Park:<br />\n&bull\;&nbsp\;&nbsp\; &nbsp\;400 Fiskar Scissors<br />\n&bull\;&nbsp\;&nbsp\; &nbsp\;400 packs of white copy paper<br />\n&bull\;&nbsp\;&nbsp\; &nbsp\;400 flash drives<br />\n&bull\;&nbsp\;&nbsp\; &nbsp\;200 copies of The Outsiders<br />\n&bull\;&nbsp\;&nbsp\; &nbsp\;200 packs of five tab dividers<br />\n<br />\nPlease consider donating money or supplies to this outreach ministry.&nbsp\; Below are ways that you can help this school system that has over 50% free and reduced lunch students:<br />\n&bull\;&nbsp\;&nbsp\; &nbsp\;Donate a box of paper<br />\n&bull\;&nbsp\;&nbsp\; &nbsp\;Sponsor flash drives (put your logo on the flash drives\, so that people will know you care about their needs)<br />\n&bull\;&nbsp\;&nbsp\; &nbsp\;Donate money toward the total amount to purchase<br />\n&bull\;&nbsp\;&nbsp\; &nbsp\;Donate a copy of The Outsiders (used or new)<br />\n<br />\n<br />\nJennifer Nabors<br />\nCalera First United Methodist Church<br />\nPrayer in the Park Ministries<br />\n(205) 383-0469<br />\nJnabors02@gmail.com
LOCATION:Oliver Park
UID:e.145.4678
SEQUENCE:3
DTSTAMP:20260424T085821Z
URL:https://business.shelbychamber.org/events/details/prayer-in-the-park-ministries-school-supply-carnival-08-11-2013-4678
END:VEVENT

END:VCALENDAR
