BEGIN:VCALENDAR
VERSION:2.0
PRODID:-//ChamberMaster//Event Calendar 2.0//EN
METHOD:PUBLISH
X-PUBLISHED-TTL:P3D
REFRESH-INTERVAL:P3D
CALSCALE:GREGORIAN
BEGIN:VEVENT
DTSTART:20160311T163000Z
DTEND:20160311T173000Z
X-MICROSOFT-CDO-ALLDAYEVENT:FALSE
SUMMARY:Preschool Kitchen Science: Magic Milk!
DESCRIPTION:Stop by for stories\, songs\, and STEAM-y (Science Technology Engineering Art and Math) science experiments for preschoolers. Supplies limited\, registration required.
X-ALT-DESC;FMTTYPE=text/html:<span style="font-family:calibri light\,sans-serif"><span style="font-size:12.0pt">Stop by for stories\, songs\, and STEAM-y (Science Technology Engineering Art and Math) science experiments for preschoolers. <u>Supplies limited\, registration required</u>.</span></span>
LOCATION:North Shelby Library
UID:e.145.8363
SEQUENCE:3
DTSTAMP:20260422T074713Z
URL:https://business.shelbychamber.org/events/details/preschool-kitchen-science-magic-milk-03-11-2016-8363
END:VEVENT

END:VCALENDAR
