BEGIN:VCALENDAR
VERSION:2.0
PRODID:-//ChamberMaster//Event Calendar 2.0//EN
METHOD:PUBLISH
X-PUBLISHED-TTL:P3D
REFRESH-INTERVAL:P3D
CALSCALE:GREGORIAN
BEGIN:VEVENT
DTSTART:20130427T150000Z
DTEND:20130427T190000Z
X-MICROSOFT-CDO-ALLDAYEVENT:FALSE
SUMMARY:Prescription Drug Take Back Event
DESCRIPTION:The Shelby County Drug Enforcement Task Force\, Pelham Police Department\, and Shelby County Drug Free Coalition are hosting a take back day to collect any unused or expired over the counter or prescription medications for proper disposal.  Bring any over the counter or prescription medication for free disposal.  No information is required at drop-off.  Turn in your unused or expired medication for safe disposal.
X-ALT-DESC;FMTTYPE=text/html:The Shelby County Drug Enforcement Task Force\, Pelham Police Department\, and Shelby County Drug Free Coalition are hosting a take back day to collect any unused or expired over the counter or prescription medications for proper disposal.&nbsp\; Bring any over the counter or prescription medication for free disposal.&nbsp\; No information is required at drop-off.&nbsp\; Turn in your unused or expired medication for safe disposal. 
LOCATION:Alabaster Target\, Greystone UMCA\, Pelham Police Department\, University of Montevallo\, Winnie Dixie on Valleydale.
UID:e.145.4560
SEQUENCE:3
DTSTAMP:20260424T134532Z
URL:https://business.shelbychamber.org/events/details/prescription-drug-take-back-event-04-27-2013-4560
END:VEVENT

END:VCALENDAR
