BEGIN:VCALENDAR
VERSION:2.0
PRODID:-//ChamberMaster//Event Calendar 2.0//EN
METHOD:PUBLISH
X-PUBLISHED-TTL:P3D
REFRESH-INTERVAL:P3D
CALSCALE:GREGORIAN
BEGIN:VEVENT
DTSTART:20111029T150000Z
DTEND:20111029T190000Z
X-MICROSOFT-CDO-ALLDAYEVENT:FALSE
SUMMARY:Prescription Take-Back Day
DESCRIPTION:National Prescription Take-Back Day October 29th 10:00 am-2:00 pm\n\n	The Shelby County Drug Enforcement Task Force\, the Pelham Police Department\, the Shelby County Drug Free Coalition\, and the Drug Enforcement Administration are sponsoring the event to allow citizens the opportunity to properly dispose of unneeded\, unused\, expired\, or unwanted prescription or over-the counter medications. The drop-off is free and anonymous - no questions asked. \n\n	 \n\n	Bring your medications for disposal on Saturday\, October 29th\, 10:00 am-2:00 pm\, to either the Greystone YMCA (5414 Highway 280\, Birmingham)\, Alabaster Target (250 South Colonial Drive\, Alabaster) or the Pelham Police Department (32 Philip Davis Street\, Pelham). The Shelby County Drug Enforcement Task Force and the Pelham Police Department will be accepting over-the-counter and prescription medications for free and proper disposal.
X-ALT-DESC;FMTTYPE=text/html:<p class="MsoNormal" style="text-align: justify\; margin: 0in 0in 0pt">\n	<span style="font-size: 14pt"><font color="#000000"><font face="Times New Roman">National Prescription Take-Back Day October 29<sup>th</sup> 10:00 am-2:00 pm</font></font></span></p>\n<p class="MsoNormal" style="text-align: justify\; margin: 0in 0in 0pt">\n	<span style="mso-bidi-font-weight: bold"><font color="#000000" face="Times New Roman" size="3">The Shelby County Drug Enforcement Task Force\, the Pelham Police Department\, the Shelby County Drug Free Coalition\, and the Drug Enforcement Administration are sponsoring the event to allow citizens the opportunity to properly dispose of unneeded\, unused\, expired\, or unwanted prescription or over-the counter medications. The drop-off is free and anonymous - no questions asked. </font></span></p>\n<p class="MsoNormal" style="text-align: justify\; margin: 0in 0in 0pt">\n	<span style="mso-bidi-font-weight: bold"><font color="#000000" face="Times New Roman" size="3">&nbsp\;</font></span></p>\n<p class="MsoNormal" style="text-align: justify\; margin: 0in 0in 0pt">\n	<font face="Times New Roman"><font size="3"><font color="#000000"><span style="mso-bidi-font-weight: bold">Bring your medications for disposal o</span>n Saturday\, October 29</font></font><font color="#000000"><sup><font size="2">th</font></sup><font size="3">\, 10:00 am-2:00 pm\, to either the Greystone YMCA (5414 Highway 280\, Birmingham)\, Alabaster Target (250 South Colonial Drive\, Alabaster) or the Pelham Police Department (32 Philip Davis Street\, Pelham). The Shelby County Drug Enforcement Task Force and the Pelham Police Department will be accepting over-the-counter and prescription medications for free and proper disposal.</font><span style="mso-spacerun: yes"><font size="3">&nbsp\; </font></span></font></font></p>\n
LOCATION:Greystone YMCA\, 5414 Highway 280\, Birmingham Alabaster Target\, 250 South Colonial Drive\, Alabaster Pelham Police Department\, 32 Philip Davis Street\, Pelham
UID:e.145.3538
SEQUENCE:3
DTSTAMP:20260425T183015Z
URL:https://business.shelbychamber.org/events/details/prescription-take-back-day-10-29-2011-3538
END:VEVENT

END:VCALENDAR
