BEGIN:VCALENDAR
VERSION:2.0
PRODID:-//ChamberMaster//Event Calendar 2.0//EN
METHOD:PUBLISH
X-PUBLISHED-TTL:P3D
REFRESH-INTERVAL:P3D
CALSCALE:GREGORIAN
BEGIN:VEVENT
DTSTART:20151031T140000Z
DTEND:20151031T160000Z
X-MICROSOFT-CDO-ALLDAYEVENT:FALSE
SUMMARY:Prosperity University Financial Education Classes
DESCRIPTION:Prosperity University - saturday morning\n\n \n\nsaturday\, September 12\, 2015 from 9:00 AM - 11:00 AM\n\n \n\nProsperity University Classes Start Soon! We're going to have two groups running this semester.  Monday\, September 7th - 6pm-8pm Saturday\, September 12th - 9am-11am You are invited to join!\n\n\n\nLife can present all sorts of financial challenges. From getting a job\, getting laid off\, getting married\, getting divorced\, buying a house\, having children\, saving for retirement\; lots of things can throw us off track. In this group we will focus on habits\, behaviors and knowledge that will help you become financially free. We will discuss everything necessary to stop stressing about money and start living the life God intended for us. How would you feel if you could stretch your paycheck\, reduce your debts\, ease conflicts over money\, avoid financial traps and master investment basics?\n\n\n\nThese 13 week Financial Education classes that will focus on all the core competencies and biblical principles for you to become financially successful will be held as two groups:\n\n\n\nMonday evenings from 6pm-8pm\n\nSaturday mornings from 9am-11am\n\n\n\nTo Register\;\n\nhttp://us5.campaign-archive1.com/?u=aa417cc6a89ad21e81a5f1807&id=9cb82cab97\n\n\n\nThe cost for the materials for this group will only be $29 and since we are highly interactive\, participation is limited to the first 30 participants that register in each group. To get materials\, go to http://prosperityu.org. Click on Program Options and click on Student.\n\n\n\nFun - We're going to have tons of fun learning about everything from Financial Communication to\, the Market\, Retirement Planning and more! We always have the best students that make this group awesome!\n\n\n\nFinancial Freedom - Do you ever feel like you can't get ahead financially? You are not alone. 41\,000\,000 families live paycheck to paycheck and 19% of those earning over $100\,000 per year live on the financial edge.\n\n\n\nThe commitment we make to one another is to work toward reaching all our financial goals and take one step closer to financial freedom. We will be meeting at Trustway's office at 1837 Montgomery Hwy S\, Hoover\, AL 35244. For directions call 205-451-1945. RSVP registrations are necessary.\n\n \n\nTrustway\n\n1845 Montgomery Hwy S\n\nHoover\, AL 35244\n\nAttend Event
X-ALT-DESC;FMTTYPE=text/html:Prosperity University - saturday morning<br>\n&nbsp\;<br>\nsaturday\, September 12\, 2015 from 9:00 AM - 11:00 AM<br>\n&nbsp\;<br>\nProsperity University Classes Start Soon! We're going to have two groups running this semester. &nbsp\;Monday\, September 7th - 6pm-8pm Saturday\, September 12th - 9am-11am You are invited to join!<br>\n<br>\nLife can present all sorts of financial challenges. From getting a job\, getting laid off\, getting married\, getting divorced\, buying a house\, having children\, saving for retirement\; lots of things can throw us off track. In this group we will focus on habits\, behaviors and knowledge that will help you become financially free. We will discuss everything necessary to stop stressing about money and start living the life God intended for us. How would you feel if you could stretch your paycheck\, reduce your debts\, ease conflicts over money\, avoid financial traps and master investment basics?<br>\n<br>\nThese 13 week Financial Education classes that will focus on all the core competencies and biblical principles for you to become financially successful will be held as two groups:<br>\n<br>\nMonday evenings from 6pm-8pm<br>\nSaturday mornings from 9am-11am<br>\n<br>\nTo Register\;<br>\nhttp://us5.campaign-archive1.com/?u=aa417cc6a89ad21e81a5f1807&amp\;id=9cb82cab97<br>\n<br>\nThe cost for the materials for this group will only be $29 and since we are highly interactive\, participation is limited to the first 30 participants that register in each group. To get materials\, go to http://prosperityu.org. Click on Program Options and click on Student.<br>\n<br>\nFun - We're going to have tons of fun learning about everything from Financial Communication to\, the Market\, Retirement Planning and more! We always have the best students that make this group awesome!<br>\n<br>\nFinancial Freedom - Do you ever feel like you can't get ahead financially? You are not alone. 41\,000\,000 families live paycheck to paycheck and 19% of those earning over $100\,000 per year live on the financial edge.<br>\n<br>\nThe commitment we make to one another is to work toward reaching all our financial goals and take one step closer to financial freedom. We will be meeting at Trustway's office at 1837 Montgomery Hwy S\, Hoover\, AL 35244. For directions call 205-451-1945. RSVP registrations are necessary.<br>\n&nbsp\;<br>\nTrustway<br>\n1845 Montgomery Hwy S<br>\nHoover\, AL 35244<br>\nAttend Event
LOCATION:Trustway
UID:e.145.7847
SEQUENCE:3
DTSTAMP:20260422T165548Z
URL:https://business.shelbychamber.org/events/details/prosperity-university-financial-education-classes-10-31-2015-7847
END:VEVENT

END:VCALENDAR
