BEGIN:VCALENDAR
VERSION:2.0
PRODID:-//ChamberMaster//Event Calendar 2.0//EN
METHOD:PUBLISH
X-PUBLISHED-TTL:P3D
REFRESH-INTERVAL:P3D
CALSCALE:GREGORIAN
BEGIN:VEVENT
DTSTART:20130326T130000Z
DTEND:20130326T180000Z
X-MICROSOFT-CDO-ALLDAYEVENT:FALSE
SUMMARY:Protect Yourself Against Scams and Fraud
DESCRIPTION:Middle Alabama Area Agency on Aging (M4A) and Senior Medicare Patrol (SMP) Presents\n\n	\n\n	PROTECT YOURSELF AGAINST SCAMS AND FRAUD\n\n	\n\n	Tuesday\, March 26\, 2013\, 8:00 a.m. -- 1:00 p.m.\n\n	\n\n	First Baptist Church of Columbiana\, 208 North Main Street\, Columbiana\, AL  35051\n\n	\n\n	Registration:  8:00 a.m. --  8:45. a.m.\n\n	\n\n	Opening Remarks/Presiding: Crystal I. Crim - M4A\, Special Project Coordinator\, Senior Medicare Patrol Program\n\n	\n\n	Greetings:  Alabama Department of Senior Services Elder Justice Alliance\n\n	\n\n	Speakers:  ** 45 Minutes Each **\n\n	Inspector Scott Barber - U.S. Postal Inspection Service\n\n	Emily Nichols - Alabama Attorney General's Office\n\n	Letha Stuckey - Alabama Department of Senior Services\n\n	\n\n	Door Prizes/Closing Remarks:  Crystal I. Crim - M4A\, Special Project Coordinator\, Senior Medicare Patorl Program\n\n	\n\n	Following Presentations:  Please visit our venders to learn more about other types of fraud.\n\n	Complementary snacks will be provided\, as quantity permits.\n\n	\n\n	Please call M4A at 1-866-570-2998 for more details or to R.S.V.P. for this event.\n\n	R.S.V.P.'s are not mandatory\, but they are encouraged to ensure we have enough seats.\n\n	\n\n	M4A is one of 13 area agencies on aging in Alabama.  We service Blount\, Chilton. St. Clair. Shelby and Walker Counties and are grant funded by the Alabama Department of Senior Services.
X-ALT-DESC;FMTTYPE=text/html:<p>\n	Middle Alabama Area Agency on Aging (M4A) and Senior Medicare Patrol (SMP) Presents<br />\n	<br />\n	PROTECT YOURSELF AGAINST SCAMS AND FRAUD<br />\n	<br />\n	Tuesday\, March 26\, 2013\, 8:00 a.m. -- 1:00 p.m.<br />\n	<br />\n	First Baptist Church of Columbiana\, 208 North Main Street\, Columbiana\, AL&nbsp\; 35051<br />\n	<br />\n	Registration:&nbsp\; 8:00 a.m. --&nbsp\; 8:45. a.m.<br />\n	<br />\n	Opening Remarks/Presiding:&nbsp\;Crystal I. Crim - M4A\, Special Project Coordinator\, Senior Medicare Patrol Program<br />\n	<br />\n	Greetings:&nbsp\; Alabama Department of Senior Services Elder Justice Alliance<br />\n	<br />\n	Speakers:&nbsp\; ** 45 Minutes Each **<br />\n	Inspector Scott Barber - U.S. Postal Inspection Service<br />\n	Emily Nichols - Alabama Attorney General&#39\;s Office<br />\n	Letha Stuckey - Alabama Department of Senior Services<br />\n	<br />\n	Door Prizes/Closing Remarks:&nbsp\; Crystal I. Crim - M4A\, Special Project Coordinator\, Senior Medicare Patorl Program<br />\n	<br />\n	Following Presentations:&nbsp\; Please visit our venders to learn more about other types of fraud.<br />\n	Complementary snacks will be provided\, as quantity permits.<br />\n	<br />\n	Please call M4A at 1-866-570-2998 for more details or to R.S.V.P. for this event.<br />\n	R.S.V.P.&#39\;s are not mandatory\, but&nbsp\;they are encouraged to ensure we have enough seats.<br />\n	<br />\n	M4A is one of 13 area agencies on aging in Alabama.&nbsp\; We service Blount\, Chilton. St. Clair. Shelby and Walker Counties and are grant funded by the Alabama Department of Senior Services.&nbsp\;&nbsp\;&nbsp\;&nbsp\;&nbsp\;</p>\n
LOCATION:First Baptist Church of Columbiana 208 North Main Street Columbiana\, AL 35051
UID:e.145.4545
SEQUENCE:3
DTSTAMP:20260424T153706Z
URL:https://business.shelbychamber.org/events/details/protect-yourself-against-scams-and-fraud-03-26-2013-4545
END:VEVENT

END:VCALENDAR
