BEGIN:VCALENDAR
VERSION:2.0
PRODID:-//ChamberMaster//Event Calendar 2.0//EN
METHOD:PUBLISH
X-PUBLISHED-TTL:P3D
REFRESH-INTERVAL:P3D
CALSCALE:GREGORIAN
BEGIN:VEVENT
DTSTART:20111217T230000Z
DTEND:20111218T020000Z
X-MICROSOFT-CDO-ALLDAYEVENT:FALSE
SUMMARY:Pub 261~ Customer Appreciation Party
DESCRIPTION:Customer Appreciation Party. We invite you to join us in a Holiday celebration. Enjoy a relaxed atmosphere\, great time with good friends and a Free buffet featuring homecooked delites prepared by all of our employees. (while it lasts) Five O takes the stage at 9:30 pm.
X-ALT-DESC;FMTTYPE=text/html:<p>\n	Customer Appreciation Party. We invite you to join us in a Holiday celebration. Enjoy a relaxed atmosphere\, great time with good friends and a Free buffet featuring homecooked delites prepared by all of our employees. (while it lasts) Five O takes the stage at 9:30 pm.</p>\n
LOCATION:Pub 261
UID:e.145.3627
SEQUENCE:3
DTSTAMP:20260425T153052Z
URL:https://business.shelbychamber.org/events/details/pub-261-customer-appreciation-party-12-17-2011-3627
END:VEVENT

END:VCALENDAR
