BEGIN:VCALENDAR
VERSION:2.0
PRODID:-//ChamberMaster//Event Calendar 2.0//EN
METHOD:PUBLISH
X-PUBLISHED-TTL:P3D
REFRESH-INTERVAL:P3D
CALSCALE:GREGORIAN
BEGIN:VEVENT
DTSTART:20150504T203000Z
DTEND:20150504T213000Z
X-MICROSOFT-CDO-ALLDAYEVENT:FALSE
SUMMARY:Public Notice Internet Acceptable Use Policy Public Libraries of Shelby County
DESCRIPTION:The Public Libraries of Shelby County Internet Acceptable Use Policy will be available for public comment.
X-ALT-DESC;FMTTYPE=text/html:The Public Libraries of Shelby County Internet Acceptable Use Policy will be available for public comment.
LOCATION:Mildred. B. Harrison Regional Library 50 Lester Street Columbiana AL 35051
UID:e.145.7647
SEQUENCE:3
DTSTAMP:20260422T231131Z
URL:https://business.shelbychamber.org/events/details/public-notice-internet-acceptable-use-policy-public-libraries-of-shelby-county-05-04-2015-7647
END:VEVENT

END:VCALENDAR
