BEGIN:VCALENDAR
VERSION:2.0
PRODID:-//ChamberMaster//Event Calendar 2.0//EN
METHOD:PUBLISH
X-PUBLISHED-TTL:P3D
REFRESH-INTERVAL:P3D
CALSCALE:GREGORIAN
BEGIN:VEVENT
DTSTART:20150518T200000Z
DTEND:20150518T203000Z
X-MICROSOFT-CDO-ALLDAYEVENT:FALSE
SUMMARY:Public Notice Technology Plan Meeting
DESCRIPTION:Participants will have the opportunity to discuss the Mildred B. Harrison Regional Library's three year Technology Plan with the Beth Wagner\, Library Director.
X-ALT-DESC;FMTTYPE=text/html:Participants will have the opportunity to discuss the Mildred B. Harrison Regional Library&#39\;s three year Technology Plan with the Beth Wagner\, Library Director.
LOCATION:Mildred B. Harrison Regional Library 50 Lester Street Columbiana\, AL 35051
UID:e.145.7662
SEQUENCE:3
DTSTAMP:20260422T230028Z
URL:https://business.shelbychamber.org/events/details/public-notice-technology-plan-meeting-05-18-2015-7662
END:VEVENT

END:VCALENDAR
