BEGIN:VCALENDAR
VERSION:2.0
PRODID:-//ChamberMaster//Event Calendar 2.0//EN
METHOD:PUBLISH
X-PUBLISHED-TTL:P3D
REFRESH-INTERVAL:P3D
CALSCALE:GREGORIAN
BEGIN:VEVENT
DTSTART:20151016T210000Z
DTEND:20151016T220000Z
X-MICROSOFT-CDO-ALLDAYEVENT:FALSE
SUMMARY:Pumpkin Painting at North Shelby Library
DESCRIPTION:BYOP - Bring Your Own Pumpkin and we'll provide the paint. All ages are welcome. Registration required. Check our website for more information.
X-ALT-DESC;FMTTYPE=text/html:BYOP - Bring Your Own Pumpkin and we&#39\;ll provide the paint. All ages are welcome. Registration required. Check our website for more information.&nbsp\;
LOCATION:North Shelby Library
UID:e.145.7894
SEQUENCE:3
DTSTAMP:20260422T154633Z
URL:https://business.shelbychamber.org/events/details/pumpkin-painting-at-north-shelby-library-10-16-2015-7894
END:VEVENT

END:VCALENDAR
