BEGIN:VCALENDAR
VERSION:2.0
PRODID:-//ChamberMaster//Event Calendar 2.0//EN
METHOD:PUBLISH
X-PUBLISHED-TTL:P3D
REFRESH-INTERVAL:P3D
CALSCALE:GREGORIAN
BEGIN:VEVENT
DTSTART:20161014T210000Z
DTEND:20161014T220000Z
X-MICROSOFT-CDO-ALLDAYEVENT:FALSE
SUMMARY:Pumpkin Painting Workshop
DESCRIPTION:It's a BYOP (Bring Your Own Pumpkin) party! We'll provide the paint.  All ages are welcome.  Registration required. Check our website for more information
X-ALT-DESC;FMTTYPE=text/html:<span style="font-family:calibri light\,sans-serif">It&rsquo\;s a BYOP (Bring Your Own Pumpkin) party! We&rsquo\;ll provide the paint.&nbsp\; All ages are welcome. &nbsp\;<u>Registration&nbsp\;required</u>.&nbsp\;Check&nbsp\;our&nbsp\;website for&nbsp\;more&nbsp\;information</span>
LOCATION:North Shelby Library 5521 Cahaba Valley Road Birmingham\, AL 35242
UID:e.145.9692
SEQUENCE:3
DTSTAMP:20260421T164802Z
URL:https://business.shelbychamber.org/events/details/pumpkin-painting-workshop-10-14-2016-9692
END:VEVENT

END:VCALENDAR
