BEGIN:VCALENDAR
VERSION:2.0
PRODID:-//ChamberMaster//Event Calendar 2.0//EN
METHOD:PUBLISH
X-PUBLISHED-TTL:P3D
REFRESH-INTERVAL:P3D
CALSCALE:GREGORIAN
BEGIN:VEVENT
DTSTART:20141017T210000Z
DTEND:20141017T214500Z
X-MICROSOFT-CDO-ALLDAYEVENT:FALSE
SUMMARY:Pumpkin Painting Workshop at North Shelby Library
DESCRIPTION:BYOP (Bring Your Own Pumpkin) and we'll provide the paint. All ages are welcome with a caregiver. Registration is required.
X-ALT-DESC;FMTTYPE=text/html:<span style="background:white\;">BYOP (Bring Your Own Pumpkin) and we&rsquo\;ll provide the paint. All ages are welcome with a caregiver. Registration is required.</span>
LOCATION:North Shelby Library 5521 Cahaba Valley Rd. B'ham\, AL 35242
UID:e.145.6241
SEQUENCE:3
DTSTAMP:20260423T091606Z
URL:https://business.shelbychamber.org/events/details/pumpkin-painting-workshop-at-north-shelby-library-10-17-2014-6241
END:VEVENT

END:VCALENDAR
