BEGIN:VCALENDAR
VERSION:2.0
PRODID:-//ChamberMaster//Event Calendar 2.0//EN
METHOD:PUBLISH
X-PUBLISHED-TTL:P3D
REFRESH-INTERVAL:P3D
CALSCALE:GREGORIAN
BEGIN:VEVENT
DTSTART:20131005T150000Z
DTEND:20131027T200000Z
X-MICROSOFT-CDO-ALLDAYEVENT:FALSE
SUMMARY:PUMPKIN PATCH EXPRESS
DESCRIPTION:The entire family will enjoy an autumn ride aboard the Pumpkin Patch Express. Join in the fun as we visit the pumpkin patch for a hayride\, jump-station\, cornstalk maze\, coloring\, fun tattoos\, and good ol' fashioned boiled peanuts! Pick your favorite pumpkin from the patch for an additional charge. Tickets and info at www.HODRRM.org or 205-757-8383
X-ALT-DESC;FMTTYPE=text/html:The entire family will enjoy an autumn ride aboard the Pumpkin Patch Express. Join in the fun as we visit the pumpkin patch for a hayride\, jump-station\, cornstalk maze\, coloring\, fun tattoos\, and good ol&#39\; fashioned boiled peanuts! Pick your favorite pumpkin from the patch for an additional charge. Tickets and info at www.HODRRM.org or 205-757-8383 
LOCATION:Heart of Dixie Railroad Museum 1919 9th Street Calera\, AL 35040
UID:e.145.4751
SEQUENCE:3
DTSTAMP:20260424T051144Z
URL:https://business.shelbychamber.org/events/details/pumpkin-patch-express-10-05-2013-4751
END:VEVENT

END:VCALENDAR
