BEGIN:VCALENDAR
VERSION:2.0
PRODID:-//ChamberMaster//Event Calendar 2.0//EN
METHOD:PUBLISH
X-PUBLISHED-TTL:P3D
REFRESH-INTERVAL:P3D
CALSCALE:GREGORIAN
BEGIN:VEVENT
DTSTART:20160714T110000Z
DTEND:20160714T130000Z
X-MICROSOFT-CDO-ALLDAYEVENT:FALSE
SUMMARY:Real Estate Auction! Executive Helena Home on 13 Acres on Cahaba River!
DESCRIPTION:Real Estate Auction! \n\nThursday\, July 14th at 6:00 p.m.\n\n451 Overlook Terrace\, Helena\n\n\n\nSELLING FULLY FURNISHED!\n\nThis meticulously designed home in a gated Helena community offers elegant living at its utmost finest.  This stylish residence is garnished with magnificent architectural detail.  Those who enjoy canoeing\, fishing\, serenity\, peace and quiet and privacy will feel perfectly in their element in this residence situated on 13+/- acres bordering the Cahaba River.   Simply being away from the hustle and bustle of the city and breathing in the fresh clean air can be inspiring and restorative.\n\nLocated at the end of a private cul-de-sac\, the quiet lifestyle offering of 451 Overlook Terrace in the Cahaba River Getaway community provides the opportunity to move in before summers end and fully enjoy the amenities of living.  The home is being auctioned virtually fully furnished and is "move in" ready.                                             \n\n	7\,422Sq. ft. (+/-)\; 5 bedrooms-5 1/2 marble/tile baths\; 14+/- secluded acres\; 3 car + 1 car garage\n	Elevator\; two living quarters\; gourmet granite kitchen\; Lacanche Cote d'Or cooktop imported from France\n	Travertine tile and natural hardwood floors throughout\; huge walk-in closets\; central vac. \n	2 wells w/filtration\; sprinkler system\; emergency generator\, upgraded slate look metal roof\n	See Photos and more info of this magnificent home at GTAuctions.com.
X-ALT-DESC;FMTTYPE=text/html:<strong><em>Real Estate Auction!&nbsp\;</em></strong><br />\n<strong><em>Thursday\, July 14th at 6:00 p.m.</em></strong><br />\n<strong><em>451 Overlook Terrace\, Helena</em></strong><br />\n<br />\n<strong><em>SELLING FULLY FURNISHED!</em></strong><br />\nThis meticulously designed home in a gated Helena community offers elegant living at its utmost finest.&nbsp\; This stylish residence is garnished with magnificent architectural detail.&nbsp\; Those who enjoy canoeing\, fishing\, serenity\, peace and quiet and privacy will feel perfectly in their element in this residence situated on 13+/- acres bordering the Cahaba River.&nbsp\;&nbsp\; Simply being away from the hustle and bustle of the city and breathing in the fresh clean air can be inspiring and restorative.<br />\nLocated at the end of a private cul-de-sac\, the quiet lifestyle offering of 451 Overlook Terrace in the Cahaba River Getaway community provides the opportunity to move in before summers end and fully enjoy the amenities of living.&nbsp\; The home is being auctioned virtually fully furnished and is &ldquo\;move in&rdquo\; ready. &nbsp\; &nbsp\; &nbsp\; &nbsp\; &nbsp\; &nbsp\; &nbsp\; &nbsp\; &nbsp\; &nbsp\; &nbsp\; &nbsp\; &nbsp\; &nbsp\; &nbsp\; &nbsp\; &nbsp\; &nbsp\; &nbsp\; &nbsp\; &nbsp\; &nbsp\;&nbsp\;\n<ul>\n	<li style="text-align:justify">7\,422Sq. ft. (+/-)\; 5 bedrooms-5 1/2 marble/tile baths\; 14+/- secluded acres\; 3 car + 1 car garage</li>\n	<li style="text-align:justify">Elevator\; two living quarters\; gourmet granite kitchen\; Lacanche Cote d&#39\;Or cooktop imported from France</li>\n	<li style="text-align:justify">Travertine tile and natural hardwood floors throughout\; huge walk-in closets\; central vac.&nbsp\;</li>\n	<li style="text-align:justify">2 wells w/filtration\; sprinkler system\; emergency generator\, upgraded slate look metal roof</li>\n	<li style="text-align:justify">See Photos and more info of this magnificent home at GTAuctions.com.</li>\n</ul>\n<br />\n&nbsp\;
LOCATION:451 Overlook Terrace Helena\, AL 352080 Just off Cty Road 13 and Cty Road 1 Intersection. Follow signs.
UID:e.145.9638
SEQUENCE:3
DTSTAMP:20260422T013831Z
URL:https://business.shelbychamber.org/events/details/real-estate-auction-executive-helena-home-on-13-acres-on-cahaba-river-07-14-2016-9638
END:VEVENT

END:VCALENDAR
