BEGIN:VCALENDAR
VERSION:2.0
PRODID:-//ChamberMaster//Event Calendar 2.0//EN
METHOD:PUBLISH
X-PUBLISHED-TTL:P3D
REFRESH-INTERVAL:P3D
CALSCALE:GREGORIAN
BEGIN:VEVENT
DTSTART;VALUE=DATE:20130613
DTEND;VALUE=DATE:20130703
TRANSP:TRANSPARENT
X-MICROSOFT-CDO-ALLDAYEVENT:TRUE
SUMMARY:Red Hot Summer Car Giveaway!!!
DESCRIPTION:Win a car in our Red Hot Summer Car Giveaway\, Thanks to magic96.5 & Susan Schein Automotive in Pelham Alabama!! Follow Susan Schein's facebook page for more clues on how to win!!!!!!!\n\n\n\nRemember\, your guess will count only if entered on the contest page at www.magic96.com \,www.1037theq.com\n\nor in person at the dealership! Susan Schein Automotive!!!!
X-ALT-DESC;FMTTYPE=text/html:Win a car in our Red Hot Summer Car Giveaway\, Thanks to magic96.5 &amp\; Susan Schein Automotive in Pelham Alabama!! Follow Susan Schein&#39\;s facebook page for more clues on how to win!!!!!!!<br />\n<br />\nRemember\, your guess will count only if entered on the contest page at <a href="http://www.magic96.com">www.magic96.com</a> \,www.1037theq.com<br />\nor in person at the dealership! Susan Schein Automotive!!!!<br />\n&nbsp\;
LOCATION:Susan Schein Automotive 3171 Pelham parkway pelham al 35124
UID:e.145.4655
SEQUENCE:3
DTSTAMP:20260424T102713Z
URL:https://business.shelbychamber.org/events/details/red-hot-summer-car-giveaway-06-13-2013-4655
END:VEVENT

END:VCALENDAR
