BEGIN:VCALENDAR
VERSION:2.0
PRODID:-//ChamberMaster//Event Calendar 2.0//EN
METHOD:PUBLISH
X-PUBLISHED-TTL:P3D
REFRESH-INTERVAL:P3D
CALSCALE:GREGORIAN
BEGIN:VEVENT
DTSTART:20150506T180000Z
DTEND:20150506T200000Z
X-MICROSOFT-CDO-ALLDAYEVENT:FALSE
SUMMARY:Reference USA Workshop
DESCRIPTION:Pelham Public Library is pleased to announce that a representative from Reference USA will be providing a workshop on this exceptional small business development tool on May 6th from 1-3 PM. In the session\, those interested in boosting their business will learn:\n\n	How to identify new sales prospects\n	Create customized business & consumer marketing lists\n	Identify key business contacts\n	Locate Home based businesses\n	Find businesses with web addresses\n	Define delivery routes\n	Gather competitive business intelligence\n	Identify major industry groups\n	And much more with Reference USA\n\nThere is no charge for the workshop\, but seating is limited so please call 620-6418 to reserve a seat.\n\n\n\nThe Reference USA workshop is made possible by Reference USA and Smart investing@your library\,  a grant-funded program developed collaboratively by the American Library Association and the FINRA Investor Education Foundation.
X-ALT-DESC;FMTTYPE=text/html:<br />\nPelham Public Library is pleased to announce that a representative from Reference USA will be providing a workshop on this exceptional small business development tool on May 6th from 1-3 PM. In the session\, those interested in boosting their business will learn:\n<ul>\n	<li>How to identify new sales prospects</li>\n	<li>Create customized business &amp\; consumer marketing lists</li>\n	<li>Identify key business contacts</li>\n	<li>Locate Home based businesses</li>\n	<li>Find businesses with web addresses</li>\n	<li>Define delivery routes</li>\n	<li>Gather competitive business intelligence</li>\n	<li>Identify major industry groups</li>\n	<li>And much more with Reference USA</li>\n</ul>\nThere is no charge for the workshop\, but seating is limited so please call 620-6418 to reserve a seat.<br />\n<br />\nThe Reference USA workshop is made possible by Reference USA and Smart investing@your library\,&reg\; a grant-funded program developed collaboratively by the American Library Association and the FINRA Investor Education Foundation.
LOCATION:Pelham Public Library 3160 Pelham Parkway Pelham\, Alabama 35124
UID:e.145.7621
SEQUENCE:3
DTSTAMP:20260422T225414Z
URL:https://business.shelbychamber.org/events/details/reference-usa-workshop-05-06-2015-7621
END:VEVENT

END:VCALENDAR
