BEGIN:VCALENDAR
VERSION:2.0
PRODID:-//ChamberMaster//Event Calendar 2.0//EN
METHOD:PUBLISH
X-PUBLISHED-TTL:P3D
REFRESH-INTERVAL:P3D
CALSCALE:GREGORIAN
BEGIN:VEVENT
DTSTART;VALUE=DATE:20130605
DTEND;VALUE=DATE:20130610
TRANSP:TRANSPARENT
X-MICROSOFT-CDO-ALLDAYEVENT:TRUE
SUMMARY:Regions Tradition
DESCRIPTION:Come on out to the beautiful Shoal Creek for the 2013 Regions Tradition June 5-9. Legendary golfers such as Couples\, Funk\, Watson\, Lehman and many more will be competing right in your own backyard. Tickets start as low as $20 and children 18 & under are admitted FREE with a ticketed adult. Visit regionstradition.com for more information.
X-ALT-DESC;FMTTYPE=text/html:Come on out to the beautiful Shoal Creek for the 2013 Regions Tradition June 5-9. Legendary golfers such as Couples\, Funk\, Watson\, Lehman and many more will be competing right in your own backyard. Tickets start as low as $20 and children 18 &amp\; under are admitted FREE with a ticketed adult. Visit regionstradition.com for more information.
LOCATION:Shoal Creek
UID:e.145.4617
SEQUENCE:3
DTSTAMP:20260424T115930Z
URL:https://business.shelbychamber.org/events/details/regions-tradition-06-05-2013-4617
END:VEVENT

END:VCALENDAR
