BEGIN:VCALENDAR
VERSION:2.0
PRODID:-//ChamberMaster//Event Calendar 2.0//EN
METHOD:PUBLISH
X-PUBLISHED-TTL:P3D
REFRESH-INTERVAL:P3D
CALSCALE:GREGORIAN
BEGIN:VEVENT
DTSTART;VALUE=DATE:20150513
DTEND;VALUE=DATE:20150518
TRANSP:TRANSPARENT
X-MICROSOFT-CDO-ALLDAYEVENT:TRUE
SUMMARY:Regions Tradition at Shoal Creek
DESCRIPTION:Come on out to beautiful Shoal Creek to witness golf legends such as Fred Couples\, Bernhard Langer\, Tom Kite\, Tom Lehman\, Rocco Mediate and many more battle it out for the championship. Tickets start at $20 & children 18 & under are admitted free with a ticketed adult!
X-ALT-DESC;FMTTYPE=text/html:Come on out to beautiful Shoal Creek to witness golf legends such as Fred Couples\, Bernhard Langer\, Tom Kite\, Tom Lehman\, Rocco Mediate and many more battle it out for the championship. Tickets start at $20 &amp\; children 18 &amp\; under are admitted free with a ticketed adult!
LOCATION:Shoal Creek
UID:e.145.6547
SEQUENCE:3
DTSTAMP:20260422T231036Z
URL:https://business.shelbychamber.org/events/details/regions-tradition-at-shoal-creek-05-13-2015-6547
END:VEVENT

END:VCALENDAR
