BEGIN:VCALENDAR
VERSION:2.0
PRODID:-//ChamberMaster//Event Calendar 2.0//EN
METHOD:PUBLISH
X-PUBLISHED-TTL:P3D
REFRESH-INTERVAL:P3D
CALSCALE:GREGORIAN
BEGIN:VEVENT
DTSTART:20140514T170000Z
DTEND:20140518T170000Z
X-MICROSOFT-CDO-ALLDAYEVENT:FALSE
SUMMARY:Regions Tradition at Shoal Creek
DESCRIPTION:Come watch championship golf right in your own backyard!
X-ALT-DESC;FMTTYPE=text/html:Come watch championship golf right in your own backyard!
LOCATION:Shoal Creek
UID:e.145.5010
SEQUENCE:3
DTSTAMP:20260423T165325Z
URL:https://business.shelbychamber.org/events/details/regions-tradition-at-shoal-creek-05-14-2014-5010
END:VEVENT

END:VCALENDAR
