BEGIN:VCALENDAR
VERSION:2.0
PRODID:-//ChamberMaster//Event Calendar 2.0//EN
METHOD:PUBLISH
X-PUBLISHED-TTL:P3D
REFRESH-INTERVAL:P3D
CALSCALE:GREGORIAN
BEGIN:VEVENT
DTSTART;VALUE=DATE:20130402
DTEND;VALUE=DATE:20130403
TRANSP:TRANSPARENT
X-MICROSOFT-CDO-ALLDAYEVENT:TRUE
SUMMARY:Register for Summer Swim Lessons
DESCRIPTION:SPLASH INTO SUMMER FUN!\n\nPelham YMCA is now taking registrations for summer swim lessons and swim team!\n\nYou can register www.ymcabham.org/phswimlessons\n\nFor more information please contact Jennifer Dick at jdick@ymcabham.org or at 205.685.6512
X-ALT-DESC;FMTTYPE=text/html:<span style="font-family:verdana\;">SPLASH INTO SUMMER FUN!<br />\nPelham YMCA is now taking registrations for summer swim lessons and swim team!<br />\nYou can register www.ymcabham.org/phswimlessons<br />\nFor more information please contact Jennifer Dick at jdick@ymcabham.org or at 205.685.6512</span><br />\n<br />\n
LOCATION:Pelham YMCA 2610 Pelham Parkway Pelham\, AL 35124
UID:e.145.4569
SEQUENCE:3
DTSTAMP:20260424T134526Z
URL:https://business.shelbychamber.org/events/details/register-for-summer-swim-lessons-04-02-2013-4569
END:VEVENT

END:VCALENDAR
