BEGIN:VCALENDAR
VERSION:2.0
PRODID:-//ChamberMaster//Event Calendar 2.0//EN
METHOD:PUBLISH
X-PUBLISHED-TTL:P3D
REFRESH-INTERVAL:P3D
CALSCALE:GREGORIAN
BEGIN:VEVENT
DTSTART;VALUE=DATE:20130309
DTEND;VALUE=DATE:20130310
TRANSP:TRANSPARENT
X-MICROSOFT-CDO-ALLDAYEVENT:TRUE
SUMMARY:Registration at Stevan Grebel Center for Dance
DESCRIPTION:Grebel Center for Dance\, 102 Commerce Parkway\, Pelham 35124 (behind the Purple Onion) is now taking registration the 2013-14 School Year for ages 3 and up.  We are located at the foothills of Oak Mountain State Park\, and right across Hwy. 31 from the Pelham Civic Complex.  For details\, go to www.grebeldance.com or call 205-987-7234.\n\n\n\nWe hold ourselves to a higher standard of teaching. Our students have gone on to dance at prestigious college programs\,and have been asked to join some the top dance companies in the world.  Our school is based on ballet education\, instead of rote learning for the recital.  We offer two major performances per year:  Stevan Grebel's The Nutcracker and a Spring Dance Concert.  The Nutcracker is cast by audition only\, and anyone can dance in the Spring Concert\, which is usually a production ballet with a an added taste of jazz and tap.\n\n\n\nBesides teaching ballet technique in the Russian Method of Vaganova and Messerer\, we also work privately with individuals and groups for dance teams who wish to advance their skills presentations.  Our students are so well trained\, and educated\, that they have a choice\, and not just a hobby.  We invite you to drop by and view our classes to see if we fit your needs.  Recreational dancers\, as well as baby ballerinas enjoy our wide variety of classes for the community.\n\n\n\nGrebel Dance is also home to The Alabama Youth Ballet\, a group of dancers who desire to be a part of a team and learn what it takes to be in a ballet company.  It is also supported by the Alabama Youth Ballet Guild and by the City of Pelham.  Dancers can audition for placement in the Junior or Senior Company in the spring and in the late summer.  Check the web site at www.alabamayouthballet.info for audition dates and auditions by appointment.
X-ALT-DESC;FMTTYPE=text/html:Grebel Center for Dance\, 102 Commerce Parkway\, Pelham 35124 (behind the Purple Onion) is now taking registration the 2013-14 School Year for ages 3 and up.&nbsp\; We are located at the foothills of Oak Mountain State Park\, and right across Hwy. 31 from the Pelham Civic Complex.&nbsp\; For details\, go to <a href="http://www.grebeldance.com">www.grebeldance.com</a> or call 205-987-7234.<br />\n<br />\nWe hold ourselves to a higher standard of teaching. Our students have gone on to dance at prestigious college programs\,and have been asked to join some the top&nbsp\;dance companies in the world.&nbsp\; Our school is based on ballet education\,&nbsp\;instead of rote learning for the recital.&nbsp\; We offer two major performances per year:&nbsp\; <em>Stevan Grebel&#39\;s The Nutcracker </em>and a <em>Spring Dance Concert</em>.&nbsp\; <em>The Nutcracker</em> is cast by audition only\, and anyone can dance in the Spring Concert\, which is usually a production ballet with a&nbsp\;an added taste of jazz and tap.<br />\n<br />\nBesides teaching ballet technique in the Russian Method of Vaganova and Messerer\, we also work privately with individuals and groups for dance teams who wish to advance their skills presentations.&nbsp\; Our students are so well trained\, and educated\, that they have a choice\, and not just a hobby.&nbsp\; We invite you&nbsp\;to drop by and view our classes to see if we fit your needs.&nbsp\; Recreational dancers\, as well as baby ballerinas enjoy our wide variety of classes for the community.<br />\n<br />\nGrebel Dance is also home to The Alabama Youth Ballet\, a group of dancers who desire to be a part of a team and learn what it takes to be in a ballet company.&nbsp\;&nbsp\;It is also&nbsp\;supported by the Alabama Youth Ballet Guild and by the City of Pelham.&nbsp\; Dancers can audition for placement in the Junior or Senior Company in the spring and in the late summer.&nbsp\; Check the web site at <a href="http://www.alabamayouthballet.info">www.alabamayouthballet.info</a>&nbsp\;for audition dates and auditions by appointment.
LOCATION:102 Commerce Parkway\, Pelham\, AL 35124
UID:e.145.4338
SEQUENCE:3
DTSTAMP:20260424T153558Z
URL:https://business.shelbychamber.org/events/details/registration-at-stevan-grebel-center-for-dance-03-09-2013-4338
END:VEVENT

END:VCALENDAR
