BEGIN:VCALENDAR
VERSION:2.0
PRODID:-//ChamberMaster//Event Calendar 2.0//EN
METHOD:PUBLISH
X-PUBLISHED-TTL:P3D
REFRESH-INTERVAL:P3D
CALSCALE:GREGORIAN
BEGIN:VEVENT
DTSTART:20121011T150000Z
DTEND:20121011T160000Z
X-MICROSOFT-CDO-ALLDAYEVENT:FALSE
SUMMARY:Rehab Select at Shelby Ridge Open House Ribbon Cutting Ceremony
DESCRIPTION:Shelby Ridge Rehab Select would like to announce the expansion of our Rehabilitation Service Program. Rehab Select at Shelby Ridge is a sub-acute facility located on 881 3rd Street N.E behind Shelby Baptist Medical Center in Alabaster. Building on a more than 25-year tradition of excellence\, Rehab Select at Shelby Ridge provides residents not only with the highest quality nursing and clinical care\, but also unparalleled quality of life. We offer state of the art rehabilitation services as well as long term care. Unlike many facilities\, here at Shelby Ridge\, we are able to offer residents physical\, occupational and speech therapy up to seven days a week\, for up to three hours a day\, as ordered by the resident's physician. We are proud to have Dr. Lawrence Lee as our Medical Director for over ten years\, Dr. Everitt Simmons specializing in Wound Care\, Dr. Lloyd Simmons specializing in Orthopaedic Surgery\, Dr. William Rogers specializing in Rehabilitation Medicine\, Dr. Michael Remillard and Dr. Donald Preslar.  Our Physicians practice care in specialty and subspecialty areas offering a variety of patients services. Services may include: medical rehabilitation\, orthopaedic rehabilitation\, cardiac rehabilitation\, wound care\, and nutritional IV and Infusion therapy. We are proud to introduce complete in-house Swallowing Studies\, Total parenteral nutrition (TPN)\, and Wound Care as an expansion of our services.  These are just a few of the factors that have made Rehab Select the gold standard in rehabilitation in the communities we serve. Please feel free to call us at any time to discuss your specific situation\, needs or concerns. Or feel free to stop by any time for a tour of the facility.
X-ALT-DESC;FMTTYPE=text/html:<font face="arial\, helvetica\, sans-serif" style="font-size: 13px\; ">Shelby Ridge Rehab Select would like to announce the expansion of our Rehabilitation Service Program. Rehab Select at Shelby Ridge is a&nbsp\;sub-acute&nbsp\;facility located on 881 3rd Street N.E behind Shelby Baptist Medical Center in Alabaster.&nbsp\;<span style="line-height: 20px\; ">Building on a more than 25-year tradition of excellence\, Rehab Select at Shelby Ridge provides residents not only with the highest quality nursing and clinical care\, but also unparalleled quality of life.</span>&nbsp\;We offer state of the art rehabilitation services as well as long term care.&nbsp\;<span style="line-height: 20px\; ">Unlike many facilities\, here at Shelby Ridge\, we are able to offer residents physical\, occupational and speech therapy up to seven days a week\, for up to three hours a day\, as ordered by the resident&rsquo\;s physician.&nbsp\;</span><span style="line-height: 16px\; ">We are proud to have Dr. Lawrence Lee as our Medical Director for over ten years\, Dr. Everitt Simmons specializing in Wound Care\, Dr. Lloyd Simmons specializing in Orthopaedic Surgery\, Dr. William Rogers specializing in Rehabilitation Medicine\, Dr. Michael Remillard and Dr. Donald Preslar.&nbsp\;</span></font><span style="font-size: 13px\; line-height: 16px\; font-family: arial\, helvetica\, sans-serif\; ">&nbsp\;Our Physicians practice care in&nbsp\;</span><span style="font-size: 13px\; line-height: 18px\; font-family: arial\, helvetica\, sans-serif\; ">specialty and subspecialty areas offering a variety of patients services. Services&nbsp\;</span><span style="font-size: 13px\; line-height: 16px\; font-family: arial\, helvetica\, sans-serif\; ">may include: medical rehabilitation\, orthopaedic rehabilitation\, cardiac rehabilitation\, wound care\, and nutritional IV and Infusion therapy.&nbsp\;<b>We are proud to introduce complete in-house Swallowing Studies\,&nbsp\;</b></span><b style="font-family: arial\, sans-serif\; font-size: 13px\; "><em style="line-height: 16px\; font-style: normal\; font-family: arial\, helvetica\, sans-serif\; ">Total parenteral nutrition</em><span style="line-height: 16px\; font-family: arial\, helvetica\, sans-serif\; ">&nbsp\;(</span><em style="line-height: 16px\; font-style: normal\; font-family: arial\, helvetica\, sans-serif\; ">TPN</em></b><span style="font-size: 13px\; line-height: 16px\; font-family: arial\, helvetica\, sans-serif\; "><b>)\, and Wound Care as an expansion of our services. &nbsp\;</b>These are just a few of the factors that have made Rehab Select the&nbsp\;<i>gold standard</i>&nbsp\;in rehabilitation in the communities we serve. Please feel free to call us at any time to discuss your specific situation\, needs or concerns. Or feel free to stop by any time for a tour of the facility.</span>
LOCATION:881 3rd Street N.E Alabaster\, Al 35007
UID:e.145.4393
SEQUENCE:3
DTSTAMP:20260424T233714Z
URL:https://business.shelbychamber.org/events/details/rehab-select-at-shelby-ridge-open-house-ribbon-cutting-ceremony-10-11-2012-4393
END:VEVENT

END:VCALENDAR
