BEGIN:VCALENDAR
VERSION:2.0
PRODID:-//ChamberMaster//Event Calendar 2.0//EN
METHOD:PUBLISH
X-PUBLISHED-TTL:P3D
REFRESH-INTERVAL:P3D
CALSCALE:GREGORIAN
BEGIN:VEVENT
DTSTART;VALUE=DATE:20110502
DTEND;VALUE=DATE:20110524
TRANSP:TRANSPARENT
X-MICROSOFT-CDO-ALLDAYEVENT:TRUE
SUMMARY:Relaxed\, Creative\, Productive
DESCRIPTION:Relaxed Studio Class\n\nNo experience necessary!\n\nPersonalized attention given
X-ALT-DESC;FMTTYPE=text/html:Relaxed Studio Class\n<br>No experience necessary!\n<br>Personalized attention given\n<br>
LOCATION:Shelby County Arts Council
UID:e.145.3330
SEQUENCE:3
DTSTAMP:20260426T021531Z
URL:https://business.shelbychamber.org/events/details/relaxed-creative-productive-05-02-2011-3330
END:VEVENT

END:VCALENDAR
