BEGIN:VCALENDAR
VERSION:2.0
PRODID:-//ChamberMaster//Event Calendar 2.0//EN
METHOD:PUBLISH
X-PUBLISHED-TTL:P3D
REFRESH-INTERVAL:P3D
CALSCALE:GREGORIAN
BEGIN:VEVENT
DTSTART:20110606T180000Z
DTEND:20110627T210000Z
X-MICROSOFT-CDO-ALLDAYEVENT:FALSE
SUMMARY:RELAXED\, CREATIVE\, PRODUCTIVE
DESCRIPTION:Relaxed Studio Class\n\nNo experience necessary!\n\nPersonalized attention given
X-ALT-DESC;FMTTYPE=text/html:Relaxed Studio Class\n<br>No experience necessary!\n<br>Personalized attention given
LOCATION:Shelby County Arts Council Studio- 104 Mildred Street\, Columbiana\, AL 35051
UID:e.145.3343
SEQUENCE:3
DTSTAMP:20260426T021531Z
URL:https://business.shelbychamber.org/events/details/relaxed-creative-productive-06-06-2011-3343
END:VEVENT

END:VCALENDAR
