BEGIN:VCALENDAR
VERSION:2.0
PRODID:-//ChamberMaster//Event Calendar 2.0//EN
METHOD:PUBLISH
X-PUBLISHED-TTL:P3D
REFRESH-INTERVAL:P3D
CALSCALE:GREGORIAN
BEGIN:VEVENT
DTSTART:20110404T180000Z
DTEND:20110404T210000Z
X-MICROSOFT-CDO-ALLDAYEVENT:FALSE
SUMMARY:RELAXED\, CREATIVE\, PRODUCTIVE Afternoon
DESCRIPTION:RELAXED\, CREATIVE\, PRODUCTIVE Afternoon\n\n\n\n* Relaxed Studio Class\n\n* No experience necessary!\n\n* Personalized attention given\n\n\n\n\n\nApril Class: Apr 4 - 25\, 2011\n\n\n\n\n\nMondays\, 1:00 - 4:00pm\n\n\n\n4 weeks\, Ongoing Ages 15 - Adult
X-ALT-DESC;FMTTYPE=text/html:RELAXED\, CREATIVE\, PRODUCTIVE Afternoon<br />\n<br />\n* Relaxed Studio Class<br />\n* No experience necessary!<br />\n* Personalized attention given<br />\n<br />\n<br />\nApril Class: Apr 4 - 25\, 2011<br />\n<br />\n<br />\nMondays\, 1:00 - 4:00pm<br />\n<br />\n4 weeks\, Ongoing Ages 15 - Adult 
LOCATION:Shelby County Arts Council Studio 104 Mildred St Columbiana AL 35051
UID:e.145.2903
SEQUENCE:3
DTSTAMP:20260426T033650Z
URL:https://business.shelbychamber.org/events/details/relaxed-creative-productive-afternoon-04-04-2011-2903
END:VEVENT

END:VCALENDAR
