BEGIN:VCALENDAR
VERSION:2.0
PRODID:-//ChamberMaster//Event Calendar 2.0//EN
METHOD:PUBLISH
X-PUBLISHED-TTL:P3D
REFRESH-INTERVAL:P3D
CALSCALE:GREGORIAN
BEGIN:VEVENT
DTSTART:20110418T050000Z
DTEND:20110419T045900Z
X-MICROSOFT-CDO-ALLDAYEVENT:FALSE
SUMMARY:RELAXED\, CREATIVE\, PRODUCTIVE Monday Evening
DESCRIPTION:RELAXED\, CREATIVE\, PRODUCTIVE Monday Evening\n\n\n\nMonday evening adult painting\n\n\n\n* Relaxed Studio Class\n\n* No experience necessary!\n\n* Personalized attention given\n\n\n\nApril Class: Apr 4 - 25\, 2011\n\n\n\nMondays\, 6:00 - 9:00pm\n\n4 weeks\, Ongoing Ages 15 -Adult
X-ALT-DESC;FMTTYPE=text/html:RELAXED\, CREATIVE\, PRODUCTIVE Monday Evening<br />\n<br />\nMonday evening adult painting<br />\n<br />\n* Relaxed Studio Class<br />\n* No experience necessary!<br />\n* Personalized attention given<br />\n<br />\nApril Class: Apr 4 - 25\, 2011<br />\n<br />\nMondays\, 6:00 - 9:00pm<br />\n4 weeks\, Ongoing Ages 15 -Adult
LOCATION:Shelby County Arts Council Studio 104 Mildred St Columbiana Al 35051
UID:e.145.3111
SEQUENCE:3
DTSTAMP:20260426T033650Z
URL:https://business.shelbychamber.org/events/details/relaxed-creative-productive-monday-evening-04-18-2011-3111
END:VEVENT

END:VCALENDAR
