BEGIN:VCALENDAR
VERSION:2.0
PRODID:-//ChamberMaster//Event Calendar 2.0//EN
METHOD:PUBLISH
X-PUBLISHED-TTL:P3D
REFRESH-INTERVAL:P3D
CALSCALE:GREGORIAN
BEGIN:VEVENT
DTSTART;VALUE=DATE:20110607
DTEND;VALUE=DATE:20110629
TRANSP:TRANSPARENT
X-MICROSOFT-CDO-ALLDAYEVENT:TRUE
SUMMARY:Relaxed\, Creative\, Productive: Tuesday evening adult painting
DESCRIPTION:Relaxed Studio Class\n\nNo experience necessary\n\nPersonalized Attention Given
X-ALT-DESC;FMTTYPE=text/html:Relaxed Studio Class\n<br>No experience necessary\n<br>Personalized Attention Given
LOCATION:Shelby County Arts Council
UID:e.145.3305
SEQUENCE:3
DTSTAMP:20260426T005809Z
URL:https://business.shelbychamber.org/events/details/relaxed-creative-productive-tuesday-evening-adult-painting-06-07-2011-3305
END:VEVENT

END:VCALENDAR
