BEGIN:VCALENDAR
VERSION:2.0
PRODID:-//ChamberMaster//Event Calendar 2.0//EN
METHOD:PUBLISH
X-PUBLISHED-TTL:P3D
REFRESH-INTERVAL:P3D
CALSCALE:GREGORIAN
BEGIN:VEVENT
DTSTART;VALUE=DATE:20110606
DTEND;VALUE=DATE:20110628
TRANSP:TRANSPARENT
X-MICROSOFT-CDO-ALLDAYEVENT:TRUE
SUMMARY:RELAXED\, CREATIVE\, PRODUCUTIVE
DESCRIPTION:Relaxed Studio Class\n\nNo experience necessary!\n\nPersonalized attention given
X-ALT-DESC;FMTTYPE=text/html:Relaxed Studio Class\n<br>No experience necessary!\n<br>Personalized attention given
LOCATION:Shelby County Arts Council Studio- 104 Mildred Street\, Columbiana\, AL 35051
UID:e.145.3348
SEQUENCE:3
DTSTAMP:20260426T005326Z
URL:https://business.shelbychamber.org/events/details/relaxed-creative-producutive-06-06-2011-3348
END:VEVENT

END:VCALENDAR
