BEGIN:VCALENDAR
VERSION:2.0
PRODID:-//ChamberMaster//Event Calendar 2.0//EN
METHOD:PUBLISH
X-PUBLISHED-TTL:P3D
REFRESH-INTERVAL:P3D
CALSCALE:GREGORIAN
BEGIN:VEVENT
DTSTART:20111018T213000Z
DTEND:20111019T013000Z
X-MICROSOFT-CDO-ALLDAYEVENT:FALSE
SUMMARY:Relay For Life of North Shelby Fall Kickoff
DESCRIPTION:Come one\, come all to our first of two team registration events for Relay For Life of North Shelby\, 2012 version. This one will be on Tuesday\, October 18th from 4:30-8:30 pm at Nino's Italian Restaurant in Pelham off of 31.\n\n\n\nCommittee members will be on hand to answer your questions and help you sign up your teams. Can't wait? Then sign up now on our website at www.RelayForLife.org/NorthShelby. All teams that sign up during or before Kickoff will be eligible to win a great prize to be used as an auction item for a team fundraiser.\n\n\n\nContact Amy Turner at 401-0817 or at jtu3@aol.com with your questions. Nino's will be donating a portion of their sales to Relay that night\, so even if you don't intend to start a team\, become a sponsor\, etc.\, just come for the fine food. See you there!
X-ALT-DESC;FMTTYPE=text/html:Come one\, come all to our first of two team registration events for Relay For Life of North Shelby\, 2012 version. This one will be on Tuesday\, October 18th from 4:30-8:30 pm at Nino&#39\;s Italian Restaurant in Pelham off of 31.<br />\n<br />\nCommittee members will be on hand to answer your questions and help you sign up your teams. Can&#39\;t wait? Then sign up now on our website at<span style="font-size: 16px"><strong> <a href="http://www.RelayForLife.org/NorthShelby"><span style="color: #800080">www.RelayForLife.org/NorthShelby</span></a></strong></span>. All teams that sign up during or before Kickoff will be eligible to win a great prize to be used as an auction item for a team fundraiser.<br />\n<br />\nContact Amy Turner at 401-0817 or at jtu3@aol.com with your questions. Nino&#39\;s will be donating a portion of their sales to Relay that night\, so even if you don&#39\;t intend to start a team\, become a sponsor\, etc.\, just come for the fine food. See you there! 
LOCATION:Nino's Italian Restaurant in Pelham
UID:e.145.3522
SEQUENCE:3
DTSTAMP:20260425T183554Z
URL:https://business.shelbychamber.org/events/details/relay-for-life-of-north-shelby-fall-kickoff-10-18-2011-3522
END:VEVENT

END:VCALENDAR
