BEGIN:VCALENDAR
VERSION:2.0
PRODID:-//ChamberMaster//Event Calendar 2.0//EN
METHOD:PUBLISH
X-PUBLISHED-TTL:P3D
REFRESH-INTERVAL:P3D
CALSCALE:GREGORIAN
BEGIN:VEVENT
DTSTART:20151115T210000Z
DTEND:20151115T233000Z
X-MICROSOFT-CDO-ALLDAYEVENT:FALSE
SUMMARY:Remembrance & Resistance
DESCRIPTION:The International Center\, together with the Southern Museum of Flight and the Veterans of the Battle of the Bulge Organization\, on November 15\, 2015 we present to you Remembrance and Resistance! This is a program planned to honor & remember the Alabama veterans & the Belgium resistance movement that took place during World War II.\n\nThe program will feature a Ceremony of Honor led by Belgian Officials\, an educational presentation on the Belgian Resistance and exhibits including WWII aircrafts and a special exhibit.\n\n \nDo you have an Alabama relative currently living or deceased that participated in the Battle of the Bulge? If so please send their picture & rank to bicstaff@bic-al.org so that we may honor them in a memorial book!
X-ALT-DESC;FMTTYPE=text/html:<p>The International Center\, together with the Southern Museum of Flight and the Veterans of the Battle of the Bulge Organization\, on November 15\, 2015 we present to you Remembrance and Resistance! This is a program planned to honor &amp\; remember the Alabama veterans &amp\; the Belgium resistance movement that took place during World War II.</p>\n\n<p><span style="font-size:13px">The program will feature a Ceremony of Honor led by Belgian Officials\, an educational presentation on the Belgian Resistance and exhibits including WWII aircrafts and a special exhibit.</span></p>\n\n<p>&nbsp\;</p>\n<em><strong><span style="font-size:10.5pt">Do you have an Alabama relative currently living or deceased that participated in the Battle of the Bulge? If so please send their picture &amp\; rank to<a href="mailto:bicstaff@bic-al.org" style="color: rgb(216\, 24\, 24)\; text-decoration: none\;">&nbsp\;</a></span></strong><strong><span style="font-size:10.5pt"><a href="mailto:bicstaff@bic-al.org" style="color: rgb(216\, 24\, 24)\; text-decoration: none\;">bicstaff@bic-al.org</a>&nbsp\;so that we may honor them in a memorial book!</span></strong></em>
LOCATION:Southern Museum of Flight\, 4343 73rd Street North\, Birmingham\, AL 35206
UID:e.145.7932
SEQUENCE:3
DTSTAMP:20260422T140056Z
URL:https://business.shelbychamber.org/events/details/remembrance-resistance-11-15-2015-7932
END:VEVENT

END:VCALENDAR
